BEGIN:VCALENDAR
VERSION:2.0
PRODID:-//ChamberMaster//Event Calendar 2.0//EN
METHOD:PUBLISH
X-PUBLISHED-TTL:P3D
REFRESH-INTERVAL:P3D
CALSCALE:GREGORIAN
BEGIN:VEVENT
DTSTART:20130521T003000Z
DTEND:20130521T040000Z
X-MICROSOFT-CDO-ALLDAYEVENT:FALSE
SUMMARY:Bingo de Mayo Fiesta!
DESCRIPTION:Bingo de Mayo Fiesta! Brought to you by Chino Valley Rotary Clubs
X-ALT-DESC;FMTTYPE=text/html:Bingo de Mayo Fiesta! Brought to you by Chino Valley Rotary Clubs
LOCATION:Brinderson Hall @ Chino Fairgrounds 5410 Edison Ave.\, Chino
UID:e.1511.315
SEQUENCE:3
DTSTAMP:20260422T042221Z
URL:https://business.chinovalleychamber.com/events/details/bingo-de-mayo-fiesta-05-20-2013-315
END:VEVENT

END:VCALENDAR
