BEGIN:VCALENDAR
VERSION:2.0
PRODID:-//ChamberMaster//Event Calendar 2.0//EN
METHOD:PUBLISH
X-PUBLISHED-TTL:P3D
REFRESH-INTERVAL:P3D
CALSCALE:GREGORIAN
BEGIN:VEVENT
DTSTART:20130615T170000Z
DTEND:20130615T210000Z
X-MICROSOFT-CDO-ALLDAYEVENT:FALSE
SUMMARY:BAPS Charities Walk/Picnic
DESCRIPTION:BAPS Charities Walk/Picnic
X-ALT-DESC;FMTTYPE=text/html:BAPS Charities Walk/Picnic<br />\n
LOCATION:Veteran's Park 14877 Eucalyptus Ave.\, Chino Hills
UID:e.1511.333
SEQUENCE:3
DTSTAMP:20260422T024742Z
URL:https://business.chinovalleychamber.com/events/details/baps-charities-walk-picnic-06-15-2013-333
END:VEVENT

END:VCALENDAR
