BEGIN:VCALENDAR
VERSION:2.0
PRODID:-//ChamberMaster//Event Calendar 2.0//EN
METHOD:PUBLISH
X-PUBLISHED-TTL:P3D
REFRESH-INTERVAL:P3D
CALSCALE:GREGORIAN
BEGIN:VEVENT
DTSTART:20140422T010000Z
DTEND:20140422T030000Z
X-MICROSOFT-CDO-ALLDAYEVENT:FALSE
SUMMARY:Baldy View Regional Occupational Program - Annual Celebrating Student Success Awards Ceremony
DESCRIPTION:It is with great pleasure that we honor our students who have demonstrated exemplary success for 2013-2014.\n\nPlease join us Monday\, April 21st at 6:00 p.m.\, at the Upland High School - Highlander Auditorium\, 565 West 11th Street\, Upland\, Ca 91786.\n\n \n\nStudents representing the following industry sectors will be honored:\n\n\n	Public Services\n	Health Science and Medical Technology\n	Agriculture and Natural Resources\n	Education\, Child Development\, and Family Services\n	Hospitality. Tourism\, and Education\n	Marketing\, Sales\, and Service\n	Arts\, Media\, and Entertainment\n	Building Trades and Construction\n	Finance and Business\n	Information Technology\n	Transportation
X-ALT-DESC;FMTTYPE=text/html:<span style="font-family: script mt bold\;"><span style="font-size: 14pt\;">It is with great pleasure that we honor our students who have demonstrated exemplary success for 2013-2014.</span></span><br />\n<span style="font-family: script mt bold\;"><span style="font-size: 14pt\;">Please join us Monday\, April 21<sup>st</sup> at 6:00 p.m.\, at the Upland High School - Highlander Auditorium\, 565 West 11<sup>th</sup> Street\, Upland\, Ca 91786.</span></span><br />\n&nbsp\;<br />\n<span style="font-family: script mt bold\;"><span style="font-size: 14pt\;">Students representing the following industry sectors will be honored:</span></span>\n\n<ul>\n	<li><span style="font-family: script mt bold\;"><span style="font-size: 14pt\;">Public Services</span></span></li>\n	<li><span style="font-family: &quot\;script mt bold&quot\;\; font-size: 14pt\;">Health Science and Medical Technology</span></li>\n	<li><span style="font-family: &quot\;script mt bold&quot\;\; font-size: 14pt\;">Agriculture and Natural Resources</span></li>\n	<li><span style="font-family: &quot\;script mt bold&quot\;\; font-size: 14pt\;">Education\, Child Development\, and Family Services</span></li>\n	<li><span style="font-family: &quot\;script mt bold&quot\;\; font-size: 14pt\;">Hospitality. Tourism\, and Education</span></li>\n	<li><span style="font-family: &quot\;script mt bold&quot\;\; font-size: 14pt\;">Marketing\, Sales\, and Service</span></li>\n	<li><span style="font-family: &quot\;script mt bold&quot\;\; font-size: 14pt\;">Arts\, Media\, and Entertainment</span></li>\n	<li><span style="font-family: &quot\;script mt bold&quot\;\; font-size: 14pt\;">Building Trades and Construction</span></li>\n	<li><span style="font-family: &quot\;script mt bold&quot\;\; font-size: 14pt\;">Finance and Business</span></li>\n	<li><span style="font-family: &quot\;script mt bold&quot\;\; font-size: 14pt\;">Information Technology</span></li>\n	<li><span style="font-family: &quot\;script mt bold&quot\;\; font-size: 14pt\;">Transportation</span></li>\n</ul>\n
LOCATION:Upland High School - Highlander Auditorium\, 565 West 11th Street\, Upland\, Ca 91786
UID:e.1511.563
SEQUENCE:3
DTSTAMP:20260421T123211Z
URL:https://business.chinovalleychamber.com/events/details/baldy-view-regional-occupational-program-annual-celebrating-student-success-awards-ceremony-04-21-2014-563
END:VEVENT

END:VCALENDAR
