BEGIN:VCALENDAR
VERSION:2.0
PRODID:-//ChamberMaster//Event Calendar 2.0//EN
METHOD:PUBLISH
X-PUBLISHED-TTL:P3D
REFRESH-INTERVAL:P3D
CALSCALE:GREGORIAN
BEGIN:VEVENT
DTSTART:20240918T144500Z
DTEND:20240918T160000Z
X-MICROSOFT-CDO-ALLDAYEVENT:FALSE
SUMMARY:B@B: What is Assisted Living? with Debora Main with Aqua Ridge Senior Living
DESCRIPTION:Join us this week at Business @ Breakfast\, President/ CEO Zeb Welborn will be presenting What is Assisted Living? with Debora Main with Aqua Ridge Senior Living. This is a great opportunity to connect with other businesses and learn more on assisted living facilities.\n\n\n\nPlease note that Nonmembers will be charged a fee of $25 to attend after the third visit.
X-ALT-DESC;FMTTYPE=text/html:Join us this week at Business @ Breakfast\, President/ CEO Zeb Welborn will be presenting What is Assisted Living? with Debora Main with Aqua Ridge Senior Living. This is a great opportunity to connect with other businesses and learn more on assisted living facilities.<br />\n<br />\n<strong>Please note that Nonmembers will be charged a fee of $25 to attend after the third visit.</strong>
LOCATION:Chino Hills Community Center 14250 Peyton Dr\, Chino Hills\, CA 91709
UID:e.1511.6256
SEQUENCE:3
DTSTAMP:20260424T114340Z
URL:https://business.chinovalleychamber.com/events/details/b-b-what-is-assisted-living-with-debora-main-with-aqua-ridge-senior-living-6256
END:VEVENT

END:VCALENDAR
