BEGIN:VCALENDAR
VERSION:2.0
PRODID:-//ChamberMaster//Event Calendar 2.0//EN
METHOD:PUBLISH
X-PUBLISHED-TTL:P3D
REFRESH-INTERVAL:P3D
CALSCALE:GREGORIAN
BEGIN:VEVENT
DTSTART:20241204T154500Z
DTEND:20241204T170000Z
X-MICROSOFT-CDO-ALLDAYEVENT:FALSE
SUMMARY:B@B: Topic - California Department Tax & Fee Basics
DESCRIPTION:Join us this week at Business @ Breakfast\, President/CEO Zeb Welborn will be hosting our event with guest speaker Jennifer Ricadio with California Department of Tax & Fee. Also\, Have you Filed your BOIR for 2025 Deadline? Lorraine Ruiz with Five Star Bookkeeping and Tax will be onsite to help answer questions you may have. \n\n\n\nThis is a great opportunity to connect with other businesses and to make meaningful connections with others in your community.
X-ALT-DESC;FMTTYPE=text/html:Join us this week at Business @ Breakfast\, President/CEO Zeb Welborn will be hosting our event with guest speaker Jennifer Ricadio with California Department of Tax &amp\; Fee. Also\, Have you Filed your BOIR for 2025 Deadline? Lorraine Ruiz with Five Star Bookkeeping and Tax will be onsite to help answer questions you may have.&nbsp\;<br />\n<br />\nThis is a great opportunity to connect with other businesses and to make meaningful connections with others in your community.&nbsp\;
LOCATION:Chino Hills Community Center 14250 Peyton Drive\, Chino Hills\, CA 91709
UID:e.1511.6492
SEQUENCE:3
DTSTAMP:20260420T071936Z
URL:https://business.chinovalleychamber.com/events/details/b-b-topic-california-department-tax-fee-basics-6492
END:VEVENT

END:VCALENDAR
