BEGIN:VCALENDAR
VERSION:2.0
PRODID:-//ChamberMaster//Event Calendar 2.0//EN
METHOD:PUBLISH
X-PUBLISHED-TTL:P3D
REFRESH-INTERVAL:P3D
CALSCALE:GREGORIAN
BEGIN:VEVENT
DTSTART:20241016T144500Z
DTEND:20241016T160000Z
X-MICROSOFT-CDO-ALLDAYEVENT:FALSE
SUMMARY:B@B: Scroll Less\, Profit More: The Formula for Social Media Success! with Amanda Perkins with The Social Perk
DESCRIPTION:Join us this week at Business @ Breakfast\, President/ CEO Zeb Welborn will be hosting our event with Amanda Perkins with The Social Perk. This is a great opportunity to connect with other businesses and to make meaningful connections with others in your community.\n\n\n\nPlease note that Nonmembers will be charged a fee of $25 to attend after the third visit.
X-ALT-DESC;FMTTYPE=text/html:Join us this week at Business @ Breakfast\, President/ CEO Zeb Welborn will be hosting our event with Amanda Perkins with The Social Perk. This is a great opportunity to connect with other businesses and to make meaningful connections with others in your community.<br />\n<br />\n<strong>Please note that Nonmembers will be charged a fee of $25 to attend after the third visit.</strong>
LOCATION:Chino Hills Community Center 14250 Peyton Dr\, Chino Hills\, CA 91709
UID:e.1511.6328
SEQUENCE:3
DTSTAMP:20260422T133959Z
URL:https://business.chinovalleychamber.com/events/details/b-b-scroll-less-profit-more-the-formula-for-social-media-success-with-amanda-perkins-with-the-social-perk-6328
END:VEVENT

END:VCALENDAR
