BEGIN:VCALENDAR
VERSION:2.0
PRODID:-//ChamberMaster//Event Calendar 2.0//EN
METHOD:PUBLISH
X-PUBLISHED-TTL:P3D
REFRESH-INTERVAL:P3D
CALSCALE:GREGORIAN
BEGIN:VEVENT
DTSTART:20241218T154500Z
DTEND:20241218T170000Z
X-MICROSOFT-CDO-ALLDAYEVENT:FALSE
SUMMARY:B@B - Chino Valley Chamber of Commerce Year-End Recap
DESCRIPTION:As we wrap up a wonderful year\, we want to take a moment to thank you for being a part of the Chino Valley Chamber of Commerce family. We've accomplished so much together\, and we'd love to celebrate all of our members\, including you\, who've helped make this year truly special!\n\nWe are excited to invite you to our Year-End Chamber Recap event\, where we'll reflect on the highlights of the year\, share exciting updates\, and look ahead to the opportunities the new year will bring.
X-ALT-DESC;FMTTYPE=text/html:<p>As we wrap up a wonderful year\, we want to take a moment to thank you for being a part of the Chino Valley Chamber of Commerce family. We&rsquo\;ve accomplished so much together\, and we&rsquo\;d love to celebrate all of our members\, including you\, who&rsquo\;ve helped make this year truly special!</p>\n\n<p>We are excited to invite you to our <strong>Year-End Chamber Recap</strong> event\, where we&rsquo\;ll reflect on the highlights of the year\, share exciting updates\, and look ahead to the opportunities the new year will bring.</p>\n
LOCATION:Chino Hills Community Center 14250 Peyton Drive Chino Hills\, CA 91709
UID:e.1511.6493
SEQUENCE:3
DTSTAMP:20260420T072133Z
URL:https://business.chinovalleychamber.com/events/details/b-b-chino-valley-chamber-of-commerce-year-end-recap-6493
END:VEVENT

END:VCALENDAR
