BEGIN:VCALENDAR
VERSION:2.0
PRODID:-//ChamberMaster//Event Calendar 2.0//EN
METHOD:PUBLISH
X-PUBLISHED-TTL:P3D
REFRESH-INTERVAL:P3D
CALSCALE:GREGORIAN
BEGIN:VEVENT
DTSTART:20140707T210000Z
DTEND:20140707T220000Z
X-MICROSOFT-CDO-ALLDAYEVENT:FALSE
SUMMARY:Anti-Bullying Camp
DESCRIPTION:Anti-Bullying Camp - Don't Bully Be A Friend\n\nPresented By: On A Mission Korean Karate Center\n\n\n\nClick Here to View Full-Size PDF
X-ALT-DESC;FMTTYPE=text/html:<span style="color:#B22222\;"><strong>Anti-Bullying Camp - Don&#39\;t Bully Be A Friend</strong></span><br />\nPresented By: On A Mission Korean Karate Center<br />\n<br />\n<a href="http://cloud.chambermaster.com/userfiles/UserFiles/chambers/1511/File/Anti-Bullying.pdf">Click Here to View Full-Size PDF</a><br />\n&nbsp\;
LOCATION:On A Mission Korean Karate Center 3560 Grand Ave.\, Suite D\, Chino Hills (Located behind Sprouts Market)
UID:e.1511.610
SEQUENCE:3
DTSTAMP:20260421T082002Z
URL:https://business.chinovalleychamber.com/events/details/anti-bullying-camp-07-07-2014-610
END:VEVENT

END:VCALENDAR
