BEGIN:VCALENDAR
VERSION:2.0
PRODID:-//ChamberMaster//Event Calendar 2.0//EN
METHOD:PUBLISH
X-PUBLISHED-TTL:P3D
REFRESH-INTERVAL:P3D
CALSCALE:GREGORIAN
BEGIN:VEVENT
DTSTART:20140726T170000Z
DTEND:20140726T200000Z
X-MICROSOFT-CDO-ALLDAYEVENT:FALSE
SUMMARY:Anthony Munoz Hall of Fame Football Camp
DESCRIPTION:Anthony Munoz is hosting a football camp for boys and girls ages 8-13. This camp is FREE for the kids. No previous football experience is needed.
X-ALT-DESC;FMTTYPE=text/html:Anthony Munoz is hosting a football camp for boys and girls ages 8-13. This camp is FREE for the kids. No previous football experience is needed.
LOCATION:Chaffey High School
UID:e.1511.609
SEQUENCE:3
DTSTAMP:20260419T134249Z
URL:https://business.chinovalleychamber.com/events/details/anthony-munoz-hall-of-fame-football-camp-07-26-2014-609
END:VEVENT

END:VCALENDAR
