BEGIN:VCALENDAR
VERSION:2.0
PRODID:-//ChamberMaster//Event Calendar 2.0//EN
METHOD:PUBLISH
X-PUBLISHED-TTL:P3D
REFRESH-INTERVAL:P3D
CALSCALE:GREGORIAN
BEGIN:VEVENT
DTSTART:20140413T230000Z
DTEND:20140414T020000Z
X-MICROSOFT-CDO-ALLDAYEVENT:FALSE
SUMMARY:Annual Wine Extravaganza and Auction Benefiting Pomona Valley Habitat for Humanity
DESCRIPTION:Annual Wine Extravaganza and Auction\n\nPomona Valley Habitat for Humanity & Sowing Seeds for Life\n\n\n\nBuilding communities\, one event at a time\n\n\n\nAn evening of wines and gourmet foods featuring renowned wineries and local restaurants
X-ALT-DESC;FMTTYPE=text/html:<span style="color:#800000\;"><strong>Annual Wine Extravaganza and Auction<br />\nPomona Valley Habitat for Humanity &amp\;&nbsp\;Sowing Seeds for Life</strong></span><br />\n<br />\n<strong>Building communities\, one event at a time<br />\n<br />\n<span style="color:#B22222\;">An evening of wines and gourmet foods featuring renowned wineries and local restaurants</span></strong><br />\n<br />\n<br />\n&nbsp\;
LOCATION:Doubletree by Hilton 555 W. Foothill Blvd. Claremont\, CA 91711
UID:e.1511.541
SEQUENCE:3
DTSTAMP:20260421T140102Z
URL:https://business.chinovalleychamber.com/events/details/annual-wine-extravaganza-and-auction-benefiting-pomona-valley-habitat-for-humanity-04-13-2014-541
END:VEVENT

END:VCALENDAR
