BEGIN:VCALENDAR
VERSION:2.0
PRODID:-//ChamberMaster//Event Calendar 2.0//EN
METHOD:PUBLISH
X-PUBLISHED-TTL:P3D
REFRESH-INTERVAL:P3D
CALSCALE:GREGORIAN
BEGIN:VEVENT
DTSTART;VALUE=DATE:20130803
DTEND;VALUE=DATE:20130805
TRANSP:TRANSPARENT
X-MICROSOFT-CDO-ALLDAYEVENT:TRUE
SUMMARY:American Cancer Society - Chino Relay for Life
DESCRIPTION:Chino Relay for Life @ Ayala Park\n\nCome and Enjoy the Fun!
X-ALT-DESC;FMTTYPE=text/html:Chino Relay for Life&nbsp\;@ Ayala Park<br />\nCome and Enjoy the Fun!
LOCATION:Ayala Park 14225 Central Ave.\, Chino
UID:e.1511.399
SEQUENCE:3
DTSTAMP:20260422T011945Z
URL:https://business.chinovalleychamber.com/events/details/american-cancer-society-chino-relay-for-life-08-03-2013-399
END:VEVENT

END:VCALENDAR
