BEGIN:VCALENDAR
VERSION:2.0
PRODID:-//ChamberMaster//Event Calendar 2.0//EN
METHOD:PUBLISH
X-PUBLISHED-TTL:P3D
REFRESH-INTERVAL:P3D
CALSCALE:GREGORIAN
BEGIN:VEVENT
DTSTART:20140408T190000Z
DTEND:20140408T200000Z
X-MICROSOFT-CDO-ALLDAYEVENT:FALSE
SUMMARY:Ambassador's Meeting (Members Only) Meeting Canceled - Rescheduled to April 15th
DESCRIPTION:Committee Meeting\n\nMeeting is open to all Members
X-ALT-DESC;FMTTYPE=text/html:Committee Meeting<br />\nMeeting is open to all Members
LOCATION:Chamber Office (Location Subject to Change) 13150 7th Street\, Chino
UID:e.1511.553
SEQUENCE:3
DTSTAMP:20260421T125352Z
URL:https://business.chinovalleychamber.com/events/details/ambassador-s-meeting-members-only-meeting-canceled-rescheduled-to-april-15th-04-08-2014-553
END:VEVENT

END:VCALENDAR
