BEGIN:VCALENDAR
VERSION:2.0
PRODID:-//ChamberMaster//Event Calendar 2.0//EN
METHOD:PUBLISH
X-PUBLISHED-TTL:P3D
REFRESH-INTERVAL:P3D
CALSCALE:GREGORIAN
BEGIN:VEVENT
DTSTART:20131217T200000Z
DTEND:20131217T210000Z
X-MICROSOFT-CDO-ALLDAYEVENT:FALSE
SUMMARY:Ambassador's Meeting (Members Only)
DESCRIPTION:Committee Meeting\n\nMeeting is open to all Members
X-ALT-DESC;FMTTYPE=text/html:Committee Meeting<br />\nMeeting is open to all Members
LOCATION:Chamber Office (Location Subject to Change) 13150 7th Street\, Chino
UID:e.1511.491
SEQUENCE:3
DTSTAMP:20260421T193810Z
URL:https://business.chinovalleychamber.com/events/details/ambassador-s-meeting-members-only-12-17-2013-491
END:VEVENT

END:VCALENDAR
