BEGIN:VCALENDAR
VERSION:2.0
PRODID:-//ChamberMaster//Event Calendar 2.0//EN
METHOD:PUBLISH
X-PUBLISHED-TTL:P3D
REFRESH-INTERVAL:P3D
CALSCALE:GREGORIAN
BEGIN:VEVENT
DTSTART:20130820T190000Z
DTEND:20130820T200000Z
X-MICROSOFT-CDO-ALLDAYEVENT:FALSE
SUMMARY:Ambassador's Meeting (Members Only)
DESCRIPTION:Committee Meeting\n\nMeeting is Open to All Members
X-ALT-DESC;FMTTYPE=text/html:Committee Meeting<br />\nMeeting is Open to All Members
LOCATION:Chamber Office 13150 7th Street\, Chino
UID:e.1511.374
SEQUENCE:3
DTSTAMP:20260421T235346Z
URL:https://business.chinovalleychamber.com/events/details/ambassador-s-meeting-members-only-08-20-2013-374
END:VEVENT

END:VCALENDAR
