BEGIN:VCALENDAR
VERSION:2.0
PRODID:-//ChamberMaster//Event Calendar 2.0//EN
METHOD:PUBLISH
X-PUBLISHED-TTL:P3D
REFRESH-INTERVAL:P3D
CALSCALE:GREGORIAN
BEGIN:VEVENT
DTSTART:20130813T190000Z
DTEND:20130813T200000Z
X-MICROSOFT-CDO-ALLDAYEVENT:FALSE
SUMMARY:Ambassador's Meeting (Members Only)
DESCRIPTION:Committee Meeting\n\nMeeting is open to all Members
X-ALT-DESC;FMTTYPE=text/html:Committee Meeting<br />\nMeeting is open to all Members<br />\n
LOCATION:Chamber Office (Location Subject to Change) 13150 7th Street\, Chino
UID:e.1511.405
SEQUENCE:3
DTSTAMP:20260421T235317Z
URL:https://business.chinovalleychamber.com/events/details/ambassador-s-meeting-members-only-08-13-2013-405
END:VEVENT

END:VCALENDAR
