BEGIN:VCALENDAR
VERSION:2.0
PRODID:-//ChamberMaster//Event Calendar 2.0//EN
METHOD:PUBLISH
X-PUBLISHED-TTL:P3D
REFRESH-INTERVAL:P3D
CALSCALE:GREGORIAN
BEGIN:VEVENT
DTSTART:20140610T190000Z
DTEND:20140610T200000Z
X-MICROSOFT-CDO-ALLDAYEVENT:FALSE
SUMMARY:Ambassador's Meeting (Members Only)
DESCRIPTION:Committee Meeting \n\n\n\nMeeting is open to all Members
X-ALT-DESC;FMTTYPE=text/html:<br />\n<strong><span style="font-size:14px\;"><span style="color: rgb(0\, 0\, 128)\;">Committee Meeting&nbsp\;</span></span><br />\n<br />\nMeeting is open to all Members</strong>
LOCATION:Fish-O-Licious 4200 Chino Hills Pkwy\, #115\, Chino Hills
UID:e.1511.592
SEQUENCE:3
DTSTAMP:20260419T125607Z
URL:https://business.chinovalleychamber.com/events/details/ambassador-s-meeting-members-only-06-10-2014-592
END:VEVENT

END:VCALENDAR
