BEGIN:VCALENDAR
VERSION:2.0
PRODID:-//ChamberMaster//Event Calendar 2.0//EN
METHOD:PUBLISH
X-PUBLISHED-TTL:P3D
REFRESH-INTERVAL:P3D
CALSCALE:GREGORIAN
BEGIN:VEVENT
DTSTART:20140513T190000Z
DTEND:20140513T200000Z
X-MICROSOFT-CDO-ALLDAYEVENT:FALSE
SUMMARY:Ambassador's Meeting (Members Only)
DESCRIPTION:Committee Meeting at Marie Callender's Restaurant\, Chino\n\n\n\nMeeting is open to all Members
X-ALT-DESC;FMTTYPE=text/html:<strong><span style="font-size: 16px\;"><span style="color: rgb(0\, 0\, 128)\;">Committee Meeting at Marie&nbsp\;Callender&#39\;s&nbsp\;Restaurant\, Chino</span></span><br />\n<br />\nMeeting is open to all Members</strong>
LOCATION:Marie Callender's Restaurant & Bakery 5455-A Philadelphia Street\, Chino
UID:e.1511.577
SEQUENCE:3
DTSTAMP:20260421T122547Z
URL:https://business.chinovalleychamber.com/events/details/ambassador-s-meeting-members-only-05-13-2014-577
END:VEVENT

END:VCALENDAR
