BEGIN:VCALENDAR
VERSION:2.0
PRODID:-//ChamberMaster//Event Calendar 2.0//EN
METHOD:PUBLISH
X-PUBLISHED-TTL:P3D
REFRESH-INTERVAL:P3D
CALSCALE:GREGORIAN
BEGIN:VEVENT
DTSTART:20130806T190000Z
DTEND:20130806T200000Z
X-MICROSOFT-CDO-ALLDAYEVENT:FALSE
SUMMARY:Ambassador's Meeting - Cancelled - Rescheduled to August 13\, 2013
DESCRIPTION:Committee Meeting\n\nMeeting is Open to All Members
X-ALT-DESC;FMTTYPE=text/html:Committee Meeting<br />\nMeeting is Open to All Members
LOCATION:Chamber Office 13150 7th Street\, Chino
UID:e.1511.373
SEQUENCE:3
DTSTAMP:20260421T235459Z
URL:https://business.chinovalleychamber.com/events/details/ambassador-s-meeting-cancelled-rescheduled-to-august-13-2013-08-06-2013-373
END:VEVENT

END:VCALENDAR
