BEGIN:VCALENDAR
VERSION:2.0
PRODID:-//ChamberMaster//Event Calendar 2.0//EN
METHOD:PUBLISH
X-PUBLISHED-TTL:P3D
REFRESH-INTERVAL:P3D
CALSCALE:GREGORIAN
BEGIN:VEVENT
DTSTART:20130716T190000Z
DTEND:20130716T200000Z
X-MICROSOFT-CDO-ALLDAYEVENT:FALSE
SUMMARY:Ambassador Meeting (Members Only)
DESCRIPTION:Committee Meeting\n\nMeeting is Open to All Members
X-ALT-DESC;FMTTYPE=text/html:Committee Meeting<br />\nMeeting is Open to All Members
LOCATION:Chamber Office 13150 7th Street\, Chino
UID:e.1511.368
SEQUENCE:3
DTSTAMP:20260422T011646Z
URL:https://business.chinovalleychamber.com/events/details/ambassador-meeting-members-only-07-16-2013-368
END:VEVENT

END:VCALENDAR
