BEGIN:VCALENDAR
VERSION:2.0
PRODID:-//ChamberMaster//Event Calendar 2.0//EN
METHOD:PUBLISH
X-PUBLISHED-TTL:P3D
REFRESH-INTERVAL:P3D
CALSCALE:GREGORIAN
BEGIN:VEVENT
DTSTART:20130604T190000Z
DTEND:20130604T200000Z
X-MICROSOFT-CDO-ALLDAYEVENT:FALSE
SUMMARY:Ambassador Meeting (members only)
DESCRIPTION:Committee Meeting
X-ALT-DESC;FMTTYPE=text/html:Committee Meeting 
LOCATION:Dickey's BBQ ~ 15% 11971 Central Ave.\, Chino
UID:e.1511.293
SEQUENCE:3
DTSTAMP:20260422T024825Z
URL:https://business.chinovalleychamber.com/events/details/ambassador-meeting-members-only-06-04-2013-293
END:VEVENT

END:VCALENDAR
