BEGIN:VCALENDAR
VERSION:2.0
PRODID:-//ChamberMaster//Event Calendar 2.0//EN
METHOD:PUBLISH
X-PUBLISHED-TTL:P3D
REFRESH-INTERVAL:P3D
CALSCALE:GREGORIAN
BEGIN:VEVENT
DTSTART:20130416T190000Z
DTEND:20130416T200000Z
X-MICROSOFT-CDO-ALLDAYEVENT:FALSE
SUMMARY:Ambassador Meeting (members only)
DESCRIPTION:Committee Meeting
X-ALT-DESC;FMTTYPE=text/html:Committee Meeting
LOCATION:Chamber Office 13150 Seventh Street\, Chino
UID:e.1511.269
SEQUENCE:3
DTSTAMP:20260422T055751Z
URL:https://business.chinovalleychamber.com/events/details/ambassador-meeting-members-only-04-16-2013-269
END:VEVENT

END:VCALENDAR
