BEGIN:VCALENDAR
VERSION:2.0
PRODID:-//ChamberMaster//Event Calendar 2.0//EN
METHOD:PUBLISH
X-PUBLISHED-TTL:P3D
REFRESH-INTERVAL:P3D
CALSCALE:GREGORIAN
BEGIN:VEVENT
DTSTART:20130521T190000Z
DTEND:20130521T200000Z
X-MICROSOFT-CDO-ALLDAYEVENT:FALSE
SUMMARY:Ambassador Meeting (Chamber members only)
DESCRIPTION:Committee Meeting
X-ALT-DESC;FMTTYPE=text/html:Committee Meeting
LOCATION:Chamber Office 13150 Seventh Street\, Chino
UID:e.1511.278
SEQUENCE:3
DTSTAMP:20260422T042355Z
URL:https://business.chinovalleychamber.com/events/details/ambassador-meeting-chamber-members-only-05-21-2013-278
END:VEVENT

END:VCALENDAR
