BEGIN:VCALENDAR
VERSION:2.0
PRODID:-//ChamberMaster//Event Calendar 2.0//EN
METHOD:PUBLISH
X-PUBLISHED-TTL:P3D
REFRESH-INTERVAL:P3D
CALSCALE:GREGORIAN
BEGIN:VEVENT
DTSTART:20241210T213000Z
DTEND:20241211T000000Z
X-MICROSOFT-CDO-ALLDAYEVENT:FALSE
SUMMARY:Ambassador Holiday Mixer w/Canned Food and Toy Drive
DESCRIPTION:Holiday cheer\, new connections\, and community giving.   Deck the halls and join us for a festive holiday mixer! Network with fellow Ambassadors\, welcome new faces\, and give back to the community.   \n\n\n\nOur regularly scheduled Ambassador (Ambassadors and Interested Ambassadors) meeting will be from 12pm to 1:30pm. \n\n\n\nA new member orientation will occur between 1:30pm to 2pm. \n\n\n\nAnd our Holiday Mixer\, Toy Drive and Canned Food Drive will take place from 2pm to 4pm.
X-ALT-DESC;FMTTYPE=text/html:Holiday cheer\, new connections\, and community giving. &#127877\;&#129334\;Deck the halls and join us for a festive holiday mixer! Network with fellow Ambassadors\, welcome new faces\, and give back to the community. &#127876\;&#129309\;<br />\n<br />\nOur regularly scheduled Ambassador (Ambassadors and Interested Ambassadors) meeting will be from 12pm to 1:30pm.&nbsp\;<br />\n<br />\nA new member orientation will occur between 1:30pm to 2pm.&nbsp\;<br />\n<br />\nAnd our Holiday Mixer\, Toy Drive and Canned Food Drive will take place from 2pm to 4pm.&nbsp\;
LOCATION:Chino Valley Chamber of Commerce 13150 Seventh Street Chino\, CA 91710
UID:e.1511.6491
SEQUENCE:3
DTSTAMP:20260420T072426Z
URL:https://business.chinovalleychamber.com/events/details/ambassador-holiday-mixer-w-canned-food-and-toy-drive-6491
END:VEVENT

END:VCALENDAR
