BEGIN:VCALENDAR
VERSION:2.0
PRODID:-//ChamberMaster//Event Calendar 2.0//EN
METHOD:PUBLISH
X-PUBLISHED-TTL:P3D
REFRESH-INTERVAL:P3D
CALSCALE:GREGORIAN
BEGIN:VEVENT
DTSTART:20140501T233000Z
DTEND:20140502T023000Z
X-MICROSOFT-CDO-ALLDAYEVENT:FALSE
SUMMARY:Airport Open House & Behind The Scenes Tour leading up to the Chino Airshow
DESCRIPTION:Airport Open House & Behind The Scenes Tour \n\nleading up to the Chino Airshow\n\n\n\nDiscover what makes Chino Airport one of the premier general aviation (GA) airports and business destinations in the country:\n\n\n	Tours of the airport's inner-workings.\n	Preview the Chino Airshow beginning the very next day.\n	Explore multi-million dollar executive jets.\n	Touch priceless historical aircraft.\n	Discover the world of aviation from the inside out.\n\nFacebook/YouTube/Twitter:ChinoAirport\n\n  ChinoAirport.org\n\nOutreach@Airports.SBCounty.gov
X-ALT-DESC;FMTTYPE=text/html:<span style="font-size:14px\;"><span style="color:#FF0000\;"><strong>Airport Open House &amp\; Behind The Scenes Tour&nbsp\;<br />\nleading up to the&nbsp\;Chino Airshow</strong></span></span><br />\n<br />\n<span style="color:#0000CD\;"><strong>Discover what makes Chino Airport one of the premier general aviation (GA) airports and business destinations in the country:</strong></span>\n\n<ul>\n	<li><strong>Tours of the airport&#39\;s inner-workings.</strong></li>\n	<li><strong>Preview the Chino Airshow beginning the very next day.</strong></li>\n	<li><strong>Explore multi-million dollar executive jets.</strong></li>\n	<li><strong>Touch priceless historical aircraft.</strong></li>\n	<li><strong>Discover the world&nbsp\;of aviation from the inside out.</strong></li>\n</ul>\nFacebook/YouTube/Twitter:ChinoAirport<br />\n&#8203\;&#8203\;ChinoAirport.org<br />\nOutreach@Airports.SBCounty.gov<br />\n&nbsp\;
LOCATION:Event Location: Airshow Central - Mooney Aircraft Chalet Directly south of Cal Aero Gate. Handicap parking available inside gate. Airport Directions: Euclid Avenue to Merrill Avenue. Turn east (L) and travel 1 mile to Cal Aero Drive. Turn south (R) and travel 1/4 mile to entrance gate.
UID:e.1511.561
SEQUENCE:3
DTSTAMP:20260421T111637Z
URL:https://business.chinovalleychamber.com/events/details/airport-open-house-behind-the-scenes-tour-leading-up-to-the-chino-airshow-05-01-2014-561
END:VEVENT

END:VCALENDAR
