BEGIN:VCALENDAR
VERSION:2.0
PRODID:-//ChamberMaster//Event Calendar 2.0//EN
METHOD:PUBLISH
X-PUBLISHED-TTL:P3D
REFRESH-INTERVAL:P3D
CALSCALE:GREGORIAN
BEGIN:VEVENT
DTSTART:20140306T193000Z
DTEND:20140306T213000Z
X-MICROSOFT-CDO-ALLDAYEVENT:FALSE
SUMMARY:A Salute to Public Safety
DESCRIPTION:Chino Valley Chamber of Commerce\n\ntogether with\n\nCity of Chino Hills \n\nCity of Chino and Chino Valley Medical Center \n\n\n\nCordially Invite You to Join In \n\nA Salute to Public Safety Luncheon\n\n\n\nHonoring the Men and Women of our Fire\, Police\, and Sheriff's Departments
X-ALT-DESC;FMTTYPE=text/html:<strong><span style="color: rgb(0\, 0\, 128)\;">Chino Valley Chamber of Commerce<br />\ntogether with<br />\nCity of Chino Hills&nbsp\;<br />\nCity of Chino and Chino Valley Medical Center&nbsp\;</span></strong><br />\n<br />\n<strong><span style="color: rgb(255\, 0\, 0)\;">Cordially Invite You to Join In&nbsp\;<br />\nA Salute to Public Safety Luncheon</span><br />\n<br />\nHonoring the Men and Women of our Fire\, Police\, and Sheriff&#39\;s Departments&nbsp\;</strong>
LOCATION:Los Serranos Golf & Country Club 15656 Yorba Avenue\, Chino Hills
UID:e.1511.523
SEQUENCE:3
DTSTAMP:20260421T140116Z
URL:https://business.chinovalleychamber.com/events/details/a-salute-to-public-safety-03-06-2014-523
END:VEVENT

END:VCALENDAR
