BEGIN:VCALENDAR
VERSION:2.0
PRODID:-//ChamberMaster//Event Calendar 2.0//EN
METHOD:PUBLISH
X-PUBLISHED-TTL:P3D
REFRESH-INTERVAL:P3D
CALSCALE:GREGORIAN
BEGIN:VEVENT
DTSTART:20130511T010000Z
DTEND:20130511T050000Z
X-MICROSOFT-CDO-ALLDAYEVENT:FALSE
SUMMARY:9th Annual Wine Tasting Event
DESCRIPTION:Wine Tasting: Proceeds Benefit Pomona Valley Hospital Medical Center's\, Neonatal Intensive Care and Pediatric Units
X-ALT-DESC;FMTTYPE=text/html:Wine Tasting: Proceeds Benefit Pomona Valley Hospital Medical Center&#39\;s\, Neonatal Intensive Care and Pediatric Units
LOCATION:Sheraton Suites - Conference Center
UID:e.1511.279
SEQUENCE:3
DTSTAMP:20260422T055515Z
URL:https://business.chinovalleychamber.com/events/details/9th-annual-wine-tasting-event-05-10-2013-279
END:VEVENT

END:VCALENDAR
