BEGIN:VCALENDAR
VERSION:2.0
PRODID:-//ChamberMaster//Event Calendar 2.0//EN
METHOD:PUBLISH
X-PUBLISHED-TTL:P3D
REFRESH-INTERVAL:P3D
CALSCALE:GREGORIAN
BEGIN:VEVENT
DTSTART;VALUE=DATE:20131004
DTEND;VALUE=DATE:20131005
TRANSP:TRANSPARENT
X-MICROSOFT-CDO-ALLDAYEVENT:TRUE
SUMMARY:6th Annual Believe Walk
DESCRIPTION:6th Annual Believe Walk presented by Stater Bros. Charities & Inland Women Fighting Cancer
X-ALT-DESC;FMTTYPE=text/html:<span style="color:#0000cd\;"><span style="font-size: 14px\;"><strong><em>6th Annual Believe Walk&nbsp\;</em>presented by Stater Bros. Charities &amp\; Inland Women <em>Fighting</em> Cancer</strong></span></span>
LOCATION:
UID:e.1511.414
SEQUENCE:3
DTSTAMP:20260421T210430Z
URL:https://business.chinovalleychamber.com/events/details/6th-annual-believe-walk-10-04-2013-414
END:VEVENT

END:VCALENDAR
