BEGIN:VCALENDAR
VERSION:2.0
PRODID:-//ChamberMaster//Event Calendar 2.0//EN
METHOD:PUBLISH
X-PUBLISHED-TTL:P3D
REFRESH-INTERVAL:P3D
CALSCALE:GREGORIAN
BEGIN:VEVENT
DTSTART:20131022T000000Z
DTEND:20131022T040000Z
X-MICROSOFT-CDO-ALLDAYEVENT:FALSE
SUMMARY:5th Annual Soroptimist International of the Chino Valley Inc.\, Spaghetti Dinner & Bingo
DESCRIPTION:Soroptimist International of the Chino Valley\, Inc. - 5th Annual Spaghetti Dinner & Bingo - Catered by Cannataro's Italian Restaurant\n\n\n\nFunds raised support Soroptimist programs in the community
X-ALT-DESC;FMTTYPE=text/html:<span style="font-size:12px\;"><font face="tahoma"><strong><span style="font-size:14px\;"><span style="color:#0000cd\;">Soroptimist&nbsp\;International of the Chino Valley\, Inc.&nbsp\;</span>- <span style="color:#ff0000\;">5th Annual Spaghetti Dinner &amp\; Bingo </span>- Catered by Cannataro&#39\;s Italian Restaurant</span></strong><br />\n<br />\n<strong>Funds raised support Soroptimist programs in the community</strong></font></span>
LOCATION:Chino Senior Center 13170 Central Ave.\, Chino
UID:e.1511.363
SEQUENCE:3
DTSTAMP:20260421T223450Z
URL:https://business.chinovalleychamber.com/events/details/5th-annual-soroptimist-international-of-the-chino-valley-inc-spaghetti-dinner-bingo-10-21-2013-363
END:VEVENT

END:VCALENDAR
