BEGIN:VCALENDAR
VERSION:2.0
PRODID:-//ChamberMaster//Event Calendar 2.0//EN
METHOD:PUBLISH
X-PUBLISHED-TTL:P3D
REFRESH-INTERVAL:P3D
CALSCALE:GREGORIAN
BEGIN:VEVENT
DTSTART:20130504T170000Z
DTEND:20130504T230000Z
X-MICROSOFT-CDO-ALLDAYEVENT:FALSE
SUMMARY:5th Annual Festival of Performing & Visual Arts
DESCRIPTION:The Chino Community Center Corporation Presents\, 5th Annual Festival of Performing & Visual Arts\, Co-Sponsored by the City of Chino\n\nA Showcase of local talent:\n\nChino Artisan Demonstrations\n\nLocal Entertainment\n\nCraft & Food Vendors
X-ALT-DESC;FMTTYPE=text/html:The Chino Community Center Corporation Presents\, 5th Annual Festival of Performing &amp\; Visual Arts\, Co-Sponsored by the City of Chino<br />\nA Showcase of local talent:<br />\nChino Artisan Demonstrations<br />\nLocal Entertainment<br />\nCraft &amp\; Food Vendors
LOCATION:City of Chino Civic Center 13220 Central Avenue\, Chino
UID:e.1511.289
SEQUENCE:3
DTSTAMP:20260422T042523Z
URL:https://business.chinovalleychamber.com/events/details/5th-annual-festival-of-performing-visual-arts-05-04-2013-289
END:VEVENT

END:VCALENDAR
