BEGIN:VCALENDAR
VERSION:2.0
PRODID:-//ChamberMaster//Event Calendar 2.0//EN
METHOD:PUBLISH
X-PUBLISHED-TTL:P3D
REFRESH-INTERVAL:P3D
CALSCALE:GREGORIAN
BEGIN:VEVENT
DTSTART:20130502T153000Z
DTEND:20130502T180000Z
X-MICROSOFT-CDO-ALLDAYEVENT:FALSE
SUMMARY:5 Ways to Drive Increased Sales
DESCRIPTION:5 Ways to Drive Increased Sales\n\nAre you Marketing Your Business on a Budget?\n\nLearn How to Stretch Your Marketing Dollars\n\n\n\nPresented by: The County of San Bernardino\, Workforce Investment Board
X-ALT-DESC;FMTTYPE=text/html:5 Ways to Drive Increased Sales<br />\nAre you Marketing Your Business on a Budget?<br />\nLearn How to Stretch Your Marketing Dollars<br />\n<br />\nPresented by: The County of San Bernardino\, Workforce Investment Board
LOCATION:High Desert Employment Resource Center 17310 Bear Valley Road\, Victorville\, 92395
UID:e.1511.307
SEQUENCE:3
DTSTAMP:20260422T042231Z
URL:https://business.chinovalleychamber.com/events/details/5-ways-to-drive-increased-sales-05-02-2013-307
END:VEVENT

END:VCALENDAR
