BEGIN:VCALENDAR
VERSION:2.0
PRODID:-//ChamberMaster//Event Calendar 2.0//EN
METHOD:PUBLISH
X-PUBLISHED-TTL:P3D
REFRESH-INTERVAL:P3D
CALSCALE:GREGORIAN
BEGIN:VEVENT
DTSTART:20131012T230000Z
DTEND:20131013T020000Z
X-MICROSOFT-CDO-ALLDAYEVENT:FALSE
SUMMARY:3rd Annual Chino Hills Wine Walk
DESCRIPTION:3rd Annual Chino Hills Wine Walk\n\nPresented By: The Chino Hills Community Foundation \n\n\n\nSwirl\, sip\, and shop while raising money for a great cause!\n\n20 wines and appetizers will be featured at participating retailers at The Shoppes at Chino Hills.\n\nEnjoy live music on the Promenade throughout the evening.\n\nExperience the many shops and restaurants that The Shoppes at Chino Hills has to offer.
X-ALT-DESC;FMTTYPE=text/html:<span style="color:#800000\;"><span style="font-size:14px\;"><span style="font-family:tahoma\;"><strong>3rd Annual Chino Hills Wine Walk<br />\nPresented By: The Chino Hills Community Foundation&nbsp\;</strong></span></span></span><br />\n<br />\n<span style="font-size:14px\;"><span style="font-family:tahoma\;">S<span style="font-family:courier new\;"><strong>wirl\, sip\, and shop while raising money for a great cause!<br />\n20 wines and appetizers will be featured at participating retailers at The Shoppes at Chino Hills.<br />\nEnjoy live music on the Promenade throughout the evening.<br />\nExperience the many shops and restaurants that The Shoppes at Chino Hills has to offer.</strong></span></span></span>
LOCATION:The Shoppes at Chino Hills 13920 City Center Drive\, Chino Hills
UID:e.1511.443
SEQUENCE:3
DTSTAMP:20260421T210529Z
URL:https://business.chinovalleychamber.com/events/details/3rd-annual-chino-hills-wine-walk-10-12-2013-443
END:VEVENT

END:VCALENDAR
