BEGIN:VCALENDAR
VERSION:2.0
PRODID:-//ChamberMaster//Event Calendar 2.0//EN
METHOD:PUBLISH
X-PUBLISHED-TTL:P3D
REFRESH-INTERVAL:P3D
CALSCALE:GREGORIAN
BEGIN:VEVENT
DTSTART:20130414T020000Z
DTEND:20130414T020000Z
X-MICROSOFT-CDO-ALLDAYEVENT:FALSE
SUMMARY:2nd Annual In the Pink Fashion Show
DESCRIPTION:2nd Annual In the Pink Fashion Show\, honoring Breast Cancer Survivors in our community\n\nLimited seating available\n\nEvent is tented - the show will go on rain or shine\n\nGoody bags for the first 500 attendees
X-ALT-DESC;FMTTYPE=text/html:2nd Annual In the Pink Fashion Show\, honoring Breast Cancer Survivors in our community<br />\nLimited seating available<br />\nEvent is tented - the show will go on rain or shine<br />\nGoody bags for the first 500 attendees
LOCATION:The Shoppes at Chino Hills (on the Promenade)
UID:e.1511.288
SEQUENCE:3
DTSTAMP:20260422T060041Z
URL:https://business.chinovalleychamber.com/events/details/2nd-annual-in-the-pink-fashion-show-04-13-2013-288
END:VEVENT

END:VCALENDAR
