BEGIN:VCALENDAR
VERSION:2.0
PRODID:-//ChamberMaster//Event Calendar 2.0//EN
METHOD:PUBLISH
X-PUBLISHED-TTL:P3D
REFRESH-INTERVAL:P3D
CALSCALE:GREGORIAN
BEGIN:VEVENT
DTSTART;VALUE=DATE:20130427
DTEND;VALUE=DATE:20130428
TRANSP:TRANSPARENT
X-MICROSOFT-CDO-ALLDAYEVENT:TRUE
SUMMARY:2nd Annual Fun Run/Walk - Pomona Valley Workshop
DESCRIPTION:2nd Annual Fun Run /Walk\, PVW to Support Programs for Adults with Disabilities
X-ALT-DESC;FMTTYPE=text/html:2nd Annual Fun Run /Walk\, PVW to Support Programs for Adults with Disabilities
LOCATION:Fairplex 1101 W. McKinley Ave.\, Pomona (Enter at Gate 1) No charge for parking
UID:e.1511.256
SEQUENCE:3
DTSTAMP:20260422T055551Z
URL:https://business.chinovalleychamber.com/events/details/2nd-annual-fun-run-walk-pomona-valley-workshop-04-27-2013-256
END:VEVENT

END:VCALENDAR
