BEGIN:VCALENDAR
VERSION:2.0
PRODID:-//ChamberMaster//Event Calendar 2.0//EN
METHOD:PUBLISH
X-PUBLISHED-TTL:P3D
REFRESH-INTERVAL:P3D
CALSCALE:GREGORIAN
BEGIN:VEVENT
DTSTART;VALUE=DATE:20130328
DTEND;VALUE=DATE:20130329
TRANSP:TRANSPARENT
X-MICROSOFT-CDO-ALLDAYEVENT:TRUE
SUMMARY:25th Annual Chino Kiwanis Golf Tournament
DESCRIPTION:25th Annual Chino Kiwanis Golf Tournament
X-ALT-DESC;FMTTYPE=text/html:25th Annual Chino Kiwanis Golf Tournament
LOCATION:El Prado Golf Courses 6555 Pine Avenue Chino\, 91708 909-597-1753
UID:e.1511.52
SEQUENCE:3
DTSTAMP:20260422T072754Z
URL:https://business.chinovalleychamber.com/events/details/25th-annual-chino-kiwanis-golf-tournament-03-28-2013-52
END:VEVENT

END:VCALENDAR
