BEGIN:VCALENDAR
VERSION:2.0
PRODID:-//ChamberMaster//Event Calendar 2.0//EN
METHOD:PUBLISH
X-PUBLISHED-TTL:P3D
REFRESH-INTERVAL:P3D
CALSCALE:GREGORIAN
BEGIN:VEVENT
DTSTART:20260319T183000Z
DTEND:20260319T200000Z
X-MICROSOFT-CDO-ALLDAYEVENT:FALSE
SUMMARY:2026 Salute to Public Safety Luncheon
DESCRIPTION:Join us for the Annual Salute to Public Safety Luncheon from 11:30 AM to 1 PM (Networking from 1pm to 1:30pm) for an inspiring event to honor the courage and dedication of the men and women who keep our community safe! This special luncheon brings together local residents\, leaders\, and our public safety heroes\, with representatives from:\n\n\n	California Institution for Men\n	California Institution for Women\n	Chino Hills Police & Sheriff's Department\n	Chino Police Department\n	Chino Valley Fire District\n\n\nTicket Options:\n\n\n	Member Rate: $79\n	Non-Member Rate: $99\n\n\nCheck-in begins at 11:00 AM\, and the last day to register is February 27\, 2026.\n\nEach agency will honor outstanding individuals with awards for their exceptional service. Don't miss this opportunity to show your appreciation\, connect with our public safety professionals\, and celebrate their remarkable contributions to our community!\n\n\n\nSponsorship Opportunities Available\n\nKeynote Sponsor - $10\,000\n\n\n	Exclusive Presenting Sponsor: Opportunity for opening remarks during the event.\n	Key Speaker Opportunity: Feature as a key speaker at the event.\n	VIP Experience: One VIP table with premium seating for 8 guests.\n	4 Complimentary tickets for first responders\n	Prominent Branding:\n	\n		Logo featured on the front cover of the digital event program.\n		Full-page ad and premium logo placement in the event PowerPoint presentation.\n	\n	\n	Enhanced Visibility: Premium logo display on the event webpage.\n\n\nChief Sponsor - $5\,000\n\n\n	Presenting sponsor with opening remarks speaking opportunity\n	Allowed to display marketing assets at each table \n	1 VIP table with premium seating for 8 guests\n	4 Complimentary tickets for first responders\n	Logo on the front cover of the digital program\n	Full-page ad\n	Premium logo placement on event PowerPoint\n	Premium logo display on event page\n\n\nBattalion Chief Sponsor - $3\,000\n\n\n	Premium seating for 6 guests\n	3 Complimentary tickets for first responders\n	Logo on the second page of the digital program\n	Full-page ad\n	Secondary logo placement on event PowerPoint\n	Premium Logo display on event page\n\n\nCaptain Sponsor - $1\,500\n\n\n	Seating for 4 guests \n	2 Complimentary tickets for first responders\n	Logo on third page of digital program \n	Half-page Ad \n	Secondary logo placement on PowerPoint \n	Logo on event page\n\n\nLieutenant Sponsor - $900\n\n\n	Seating for 3 guests \n	1 Complimentary ticket for first responders\n	1/4 page Ad in digital program\n	Logo on last page of program\n	Logo on event page\n\n\nSergeant Sponsor - $600\n\n\n	Seating for 2 guests\n	1 Complimentary ticket for first responders\n	Logo on last page of program \n	1/8 page Ad in digital the program \n	Logo on event page\n\n\nOfficer Sponsor - $300\n\n\n	Seating for 1 guest \n	1/8 page Ad in digital the program \n	Logo on event page \n\nDEADLINE FOR DIGITAL ADD DUE BY MARCH 2
X-ALT-DESC;FMTTYPE=text/html:<p style="caret-color: rgb(0\, 0\, 0)\; color: rgb(0\, 0\, 0)\;">Join us for the&nbsp\;<strong>Annual Salute to Public Safety Luncheon</strong>&nbsp\;from&nbsp\;<strong>11:30 AM to 1 PM (Networking from 1pm to 1:30pm) for&nbsp\;</strong>an inspiring event to honor the courage and dedication of the men and women who keep our community safe! This special luncheon brings together local residents\, leaders\, and our public safety heroes\, with representatives from:</p>\n\n<ul style="caret-color: rgb(0\, 0\, 0)\; color: rgb(0\, 0\, 0)\;">\n	<li>California Institution for Men</li>\n	<li>California Institution for Women</li>\n	<li>Chino Hills Police &amp\; Sheriff&#39\;s Department</li>\n	<li>Chino Police Department</li>\n	<li>Chino Valley Fire District</li>\n</ul>\n\n<p style="caret-color: rgb(0\, 0\, 0)\; color: rgb(0\, 0\, 0)\;"><strong>Ticket Options:</strong></p>\n\n<ul style="caret-color: rgb(0\, 0\, 0)\; color: rgb(0\, 0\, 0)\;">\n	<li><span class="OYPEnA font-feature-liga-off font-feature-clig-off font-feature-calt-off text-decoration-none text-strikethrough-none" style="font-kerning: none\;">Member Rate: $79</span></li>\n	<li><span class="OYPEnA font-feature-liga-off font-feature-clig-off font-feature-calt-off text-decoration-none text-strikethrough-none" style="font-kerning: none\;">Non-Member Rate: $99</span></li>\n</ul>\n\n<p style="caret-color: rgb(0\, 0\, 0)\; color: rgb(0\, 0\, 0)\;"><strong>Check-in begins at 11:00 AM</strong>\, and&nbsp\;<strong>the last day to register is February 27\, 2026</strong>.</p>\n\n<p style="caret-color: rgb(0\, 0\, 0)\; color: rgb(0\, 0\, 0)\;">Each agency will honor outstanding individuals with awards for their exceptional service. Don&#39\;t miss this opportunity to show your appreciation\, connect with our public safety professionals\, and celebrate their remarkable contributions to our community!<br />\n<br />\n<strong><span style="font-size:20px\;">Sponsorship Opportunities Available</span></strong></p>\n\n<p style="caret-color: rgb(0\, 0\, 0)\; color: rgb(0\, 0\, 0)\;"><strong>Keynote Sponsor - $10\,000</strong></p>\n\n<ul style="caret-color: rgb(0\, 0\, 0)\; color: rgb(0\, 0\, 0)\;">\n	<li>Exclusive Presenting Sponsor: Opportunity for opening remarks during the event.</li>\n	<li>Key Speaker Opportunity: Feature as a key speaker at the event.</li>\n	<li>VIP Experience: One VIP table with premium seating for 8&nbsp\;guests.</li>\n	<li>4 Complimentary tickets for first responders</li>\n	<li>Prominent Branding:\n	<ul>\n		<li>Logo featured on the front cover of the digital event program.</li>\n		<li>Full-page ad and premium logo placement in the event PowerPoint presentation.</li>\n	</ul>\n	</li>\n	<li>Enhanced Visibility: Premium logo display on the event webpage.</li>\n</ul>\n\n<p><strong>Chief Sponsor - $5\,000</strong></p>\n\n<ul>\n	<li>Presenting sponsor with opening remarks speaking opportunity</li>\n	<li>Allowed to display marketing assets at each table&nbsp\;</li>\n	<li>1 VIP table with premium seating for 8&nbsp\;guests</li>\n	<li>4 Complimentary tickets for first responders</li>\n	<li>Logo on the front cover of the digital program</li>\n	<li>Full-page ad</li>\n	<li>Premium logo placement on event PowerPoint</li>\n	<li>Premium logo display on event page</li>\n</ul>\n\n<p><strong>Battalion Chief Sponsor - $3\,000</strong></p>\n\n<ul>\n	<li>Premium seating for 6&nbsp\;guests</li>\n	<li>3 Complimentary tickets for first responders</li>\n	<li>Logo on the second page of the digital program</li>\n	<li>Full-page ad</li>\n	<li>Secondary logo placement on event PowerPoint</li>\n	<li>Premium Logo display on event page</li>\n</ul>\n\n<p><strong>Captain Sponsor - $1\,500</strong></p>\n\n<ul>\n	<li>Seating for 4&nbsp\;guests&nbsp\;</li>\n	<li>2 Complimentary tickets for first responders</li>\n	<li>Logo on third page of digital program&nbsp\;</li>\n	<li>Half-page Ad&nbsp\;</li>\n	<li>Secondary logo placement on PowerPoint&nbsp\;</li>\n	<li>Logo on event page</li>\n</ul>\n\n<p><strong>Lieutenant Sponsor - $900</strong></p>\n\n<ul>\n	<li>Seating for 3&nbsp\;guests&nbsp\;</li>\n	<li>1 Complimentary ticket&nbsp\;for first responders</li>\n	<li>1/4 page Ad in digital program</li>\n	<li>Logo on last page of program</li>\n	<li>Logo on event page</li>\n</ul>\n\n<p><strong>Sergeant Sponsor - $600</strong></p>\n\n<ul>\n	<li>Seating for 2 guests</li>\n	<li>1 Complimentary ticket&nbsp\;for first responders</li>\n	<li>Logo on last page of program&nbsp\;</li>\n	<li>1/8 page Ad in digital the program&nbsp\;</li>\n	<li>Logo on event page</li>\n</ul>\n\n<p><strong>Officer Sponsor - $300</strong></p>\n\n<ul>\n	<li>Seating for 1 guest&nbsp\;</li>\n	<li>1/8 page Ad in digital the program&nbsp\;</li>\n	<li>Logo on event page&nbsp\;</li>\n</ul>\n<span style="color:#FF0000\;"><strong>DEADLINE FOR DIGITAL ADD DUE BY MARCH 2</strong></span>
LOCATION:Los Serranos Country Club
UID:e.1511.8195
SEQUENCE:3
DTSTAMP:20260422T192411Z
URL:https://business.chinovalleychamber.com/events/details/2026-salute-to-public-safety-luncheon-8195
END:VEVENT

END:VCALENDAR
