BEGIN:VCALENDAR
VERSION:2.0
PRODID:-//ChamberMaster//Event Calendar 2.0//EN
METHOD:PUBLISH
X-PUBLISHED-TTL:P3D
REFRESH-INTERVAL:P3D
CALSCALE:GREGORIAN
BEGIN:VEVENT
DTSTART:20260605T003000Z
DTEND:20260605T033000Z
X-MICROSOFT-CDO-ALLDAYEVENT:FALSE
SUMMARY:2026 Chino Hills State of the City
DESCRIPTION:The City of Chino Hills invites residents\, business leaders\, and community partners to the 2026 State of the City Address\, hosted by Mayor Brian Johsz\, on Thursday\, June 4\, at the Chino Hills Community Center. This annual event will provide an overview of the City's achievements throughout the past year\, ongoing projects\, and the vision that will continue to shape Chino Hills' success. The evening will begin with a hors d'oeuvres reception at 5:30 pm\, offering guests the opportunity to network with local leaders before the State of the City Address at 6:30 pm.\n \n\nWhile reflecting on the City's 35th anniversary and America's 250th anniversary\, Mayor Johsz will highlight key initiatives\, community priorities\, and the continued commitment to preserving a high quality of life in Chino Hills. The address will include updates on public safety\, community programs\, infrastructure improvements\, and the ongoing effort to brace for future budget challenges while maintaining essential City services. The evening will also recognize unsung heroes in Chino Hills whose volunteerism and selfless nature contribute to the City's strong sense of community without ever expecting recognition.\n\n\n\n\nReception: 5:30 PM\n\nState of the City Address: 6:30 PM\n\nRSVP Deadline: Wednesday\, May 21\n\n\n\nSponsorship Opportunities\n\n\n\nEvent Sponsor   $7\,500\n\nLimited to one\, must be confirmed by May 11\n\n\n	Exclusive Event Sponsor designation \n	Company logo on event lanyards worn by all attendees\n	Dedicated Chamber email blast following the event recognizing sponsor support\n	Company logo displayed on event presentation\n	Company logo on Chamber of Commerce State of the City website page\n	Company logo on Chamber of Commerce State of the City email invitation (if confirmed ahead of announcement)\n	Verbal recognition during State of the City Address\n	Recognition in Chamber of Commerce post-event social media recap\n	Eight tickets to pre-event Reception and Address\n\n\n\n\nPremier Sponsor   $5\,000\n\nLimited to one\, must be confirmed by May 11\n\n\n	Custom cocktail napkin with sponsor logo placed at dessert table\n	Inclusion in Chamber thank you email following the event recognizing sponsor support\n	Company logo displayed on event presentation\n	Company logo on Chamber of Commerce State of the City website page\n	Company logo on Chamber of Commerce State of the City email invitation (if confirmed ahead of announcement)\n	Verbal recognition during State of the City Address\n	Recognition in Chamber of Commerce post-event social media recap\n	Six tickets to pre-event Reception and Address\n\n\n\n\nDiamond Sponsor   $2\,500\n\n\n	Inclusion in Chamber thank you email following the event recognizing sponsor support\n	Company logo displayed on event presentation\n	Company logo on Chamber of Commerce State of the City website page\n	Company logo on Chamber of Commerce State of the City email invitation (if confirmed ahead of announcement)\n	Verbal recognition during State of the City Address\n	Recognition in Chamber of Commerce post-event social media recap\n	Five tickets to pre-event Reception and Address\n\n\n\n\n\n\nPlatinum Sponsor   $1\,500\n\n\n	Company logo displayed on event presentation\n	Company logo on Chamber of Commerce State of the City website page\n	Verbal recognition during State of the City Address\n	Four tickets to pre-event reception and address\n\n\n\n\nGold Sponsor   $1\,000\n\n\n	Company logo displayed on event presentation\n	Company logo on Chamber of Commerce State of the City website page\n	Three tickets to pre-event Reception and Address\n\n\n\n\nBronze Sponsor   $500\n\n\n	Company logo on Chamber of Commerce State of the City website page\n	Two tickets to pre-event Reception and Address
X-ALT-DESC;FMTTYPE=text/html:<div style="border: 0px\; font: inherit\; margin: 0px\; padding: 0px\; vertical-align: baseline\; color: black !important\;">&#8203\;<br />\n<span style="font-family: inherit\; font-size: inherit\; font-style: inherit\; font-variant-ligatures: inherit\; font-variant-caps: inherit\; font-weight: inherit\;">The City of Chino Hills invites residents\, business leaders\, and community partners to the 2026 State of the City Address\, hosted by Mayor Brian Johsz\, on Thursday\, June 4\, at the Chino Hills Community Center. This annual event will provide an overview of the City&rsquo\;s achievements throughout the past year\, ongoing projects\, and the vision that will continue to shape Chino Hills&rsquo\; success. The evening will begin with a hors d&rsquo\;oeuvres reception at 5:30 pm\, offering guests the opportunity to network with local leaders before the State of the City Address at 6:30 pm.</span>\n<div dir="ltr" role="presentation" style="color: black !important\; font-size: 12pt\; font-family: Aptos\, Arial\, Helvetica\, sans-serif\; display: block\;border: 0px\; font: inherit\; margin: 0px\; padding: 0px\; vertical-align: baseline\; color: inherit\;">&nbsp\;</div>\n\n<div role="presentation" style="color: black !important\; font-size: 12pt\; font-family: Aptos\, Arial\, Helvetica\, sans-serif\; display: block\;border: 0px\; font: inherit\; margin: 0px\; padding: 0px\; vertical-align: baseline\; color: inherit\;">While reflecting on the City&rsquo\;s 35th anniversary and America&rsquo\;s 250th anniversary\, Mayor Johsz will highlight key initiatives\, community priorities\, and the continued commitment to preserving a high quality of life in Chino Hills. The address will include updates on public safety\, community programs\, infrastructure improvements\, and the ongoing effort to brace for future budget challenges while maintaining essential City services. The evening will also recognize unsung heroes in Chino Hills whose volunteerism and selfless nature contribute to the City&rsquo\;s strong sense of community without ever expecting recognition.</div>\n</div>\n<br />\n<!--EndFragment--><!--EndFragment-->\n<p data-end="1818" data-start="1753" style="caret-color: rgb(0\, 0\, 0)\; color: rgb(0\, 0\, 0)\;"><strong data-end="1767" data-start="1753">Reception:</strong>&nbsp\;5:30 PM<br data-end="1778" data-start="1775" />\n<strong data-end="1808" data-start="1778">State of the City Address:</strong>&nbsp\;6:30 PM</p>\n\n<p data-end="1856" data-start="1820" style="caret-color: rgb(0\, 0\, 0)\; color: rgb(0\, 0\, 0)\;"><strong data-end="1838" data-start="1820">RSVP Deadline:</strong>&nbsp\;Wednesday\, May 21<br />\n<br />\n<strong><span style="font-size:20px\;">Sponsorship Opportunities</span></strong><br />\n<br />\n<span style="font-size:20px\;"><strong>Event Sponsor &ndash\; $7\,500</strong></span><br />\nLimited to one\, must be confirmed by May 11</p>\n\n<ul>\n	<li data-end="2118" data-start="1893" style="caret-color: rgb(0\, 0\, 0)\; color: rgb(0\, 0\, 0)\;">Exclusive Event Sponsor designation&nbsp\;</li>\n	<li data-end="2118" data-start="1893" style="caret-color: rgb(0\, 0\, 0)\; color: rgb(0\, 0\, 0)\;">Company logo on event lanyards worn by all attendees</li>\n	<li data-end="2118" data-start="1893" style="caret-color: rgb(0\, 0\, 0)\; color: rgb(0\, 0\, 0)\;">Dedicated Chamber email blast following the event recognizing sponsor support</li>\n	<li data-end="2118" data-start="1893" style="caret-color: rgb(0\, 0\, 0)\; color: rgb(0\, 0\, 0)\;">Company logo displayed on event presentation</li>\n	<li data-end="2118" data-start="1893" style="caret-color: rgb(0\, 0\, 0)\; color: rgb(0\, 0\, 0)\;">Company logo on Chamber of Commerce State of the City website page</li>\n	<li data-end="2118" data-start="1893" style="caret-color: rgb(0\, 0\, 0)\; color: rgb(0\, 0\, 0)\;">Company logo on Chamber of Commerce State of the City email invitation (if confirmed ahead of announcement)</li>\n	<li data-end="2118" data-start="1893" style="caret-color: rgb(0\, 0\, 0)\; color: rgb(0\, 0\, 0)\;">Verbal recognition during State of the City Address</li>\n	<li data-end="2118" data-start="1893" style="caret-color: rgb(0\, 0\, 0)\; color: rgb(0\, 0\, 0)\;">Recognition in Chamber of Commerce post-event social media recap</li>\n	<li data-end="2118" data-start="1893" style="caret-color: rgb(0\, 0\, 0)\; color: rgb(0\, 0\, 0)\;">Eight tickets to pre-event Reception and Address</li>\n</ul>\n\n<p data-end="2118" data-start="1893" style="caret-color: rgb(0\, 0\, 0)\; color: rgb(0\, 0\, 0)\;"><br />\n<span style="font-size:20px\;"><strong>Premier Sponsor &ndash\; $5\,000</strong></span><br />\nLimited to one\, must be confirmed by May 11</p>\n\n<ul>\n	<li data-end="2118" data-start="1893" style="caret-color: rgb(0\, 0\, 0)\; color: rgb(0\, 0\, 0)\;">Custom cocktail napkin with sponsor logo placed at dessert table</li>\n	<li data-end="2118" data-start="1893" style="caret-color: rgb(0\, 0\, 0)\; color: rgb(0\, 0\, 0)\;">Inclusion in Chamber thank you email following the event recognizing sponsor support</li>\n	<li data-end="2118" data-start="1893" style="caret-color: rgb(0\, 0\, 0)\; color: rgb(0\, 0\, 0)\;">Company logo displayed on event presentation</li>\n	<li data-end="2118" data-start="1893" style="caret-color: rgb(0\, 0\, 0)\; color: rgb(0\, 0\, 0)\;">Company logo on Chamber of Commerce State of the City website page</li>\n	<li data-end="2118" data-start="1893" style="caret-color: rgb(0\, 0\, 0)\; color: rgb(0\, 0\, 0)\;">Company logo on Chamber of Commerce State of the City email invitation (if confirmed ahead of announcement)</li>\n	<li data-end="2118" data-start="1893" style="caret-color: rgb(0\, 0\, 0)\; color: rgb(0\, 0\, 0)\;">Verbal recognition during State of the City Address</li>\n	<li data-end="2118" data-start="1893" style="caret-color: rgb(0\, 0\, 0)\; color: rgb(0\, 0\, 0)\;">Recognition in Chamber of Commerce post-event social media recap</li>\n	<li data-end="2118" data-start="1893" style="caret-color: rgb(0\, 0\, 0)\; color: rgb(0\, 0\, 0)\;">Six tickets to pre-event Reception and Address</li>\n</ul>\n\n<p data-end="2118" data-start="1893" style="caret-color: rgb(0\, 0\, 0)\; color: rgb(0\, 0\, 0)\;"><br />\n<span style="font-size:20px\;"><strong>Diamond Sponsor &ndash\; $2\,500</strong></span></p>\n\n<ul>\n	<li data-end="2118" data-start="1893" style="caret-color: rgb(0\, 0\, 0)\; color: rgb(0\, 0\, 0)\;">Inclusion in Chamber thank you email following the event recognizing sponsor support</li>\n	<li data-end="2118" data-start="1893" style="caret-color: rgb(0\, 0\, 0)\; color: rgb(0\, 0\, 0)\;">Company logo displayed on event presentation</li>\n	<li data-end="2118" data-start="1893" style="caret-color: rgb(0\, 0\, 0)\; color: rgb(0\, 0\, 0)\;">Company logo on Chamber of Commerce State of the City website page</li>\n	<li data-end="2118" data-start="1893" style="caret-color: rgb(0\, 0\, 0)\; color: rgb(0\, 0\, 0)\;">Company logo on Chamber of Commerce State of the City email invitation (if confirmed ahead of announcement)</li>\n	<li data-end="2118" data-start="1893" style="caret-color: rgb(0\, 0\, 0)\; color: rgb(0\, 0\, 0)\;">Verbal recognition during State of the City Address</li>\n	<li data-end="2118" data-start="1893" style="caret-color: rgb(0\, 0\, 0)\; color: rgb(0\, 0\, 0)\;">Recognition in Chamber of Commerce post-event social media recap</li>\n	<li data-end="2118" data-start="1893" style="caret-color: rgb(0\, 0\, 0)\; color: rgb(0\, 0\, 0)\;">Five tickets to pre-event Reception and Address</li>\n</ul>\n\n<p data-end="2118" data-start="1893" style="caret-color: rgb(0\, 0\, 0)\; color: rgb(0\, 0\, 0)\;"><br />\n<br />\n<span style="font-size:20px\;"><strong>Platinum Sponsor &ndash\; $1\,500</strong></span></p>\n\n<ul>\n	<li data-end="2118" data-start="1893" style="caret-color: rgb(0\, 0\, 0)\; color: rgb(0\, 0\, 0)\;">Company logo displayed on event presentation</li>\n	<li data-end="2118" data-start="1893" style="caret-color: rgb(0\, 0\, 0)\; color: rgb(0\, 0\, 0)\;">Company logo on Chamber of Commerce State of the City website page</li>\n	<li data-end="2118" data-start="1893" style="caret-color: rgb(0\, 0\, 0)\; color: rgb(0\, 0\, 0)\;">Verbal recognition during State of the City Address</li>\n	<li data-end="2118" data-start="1893" style="caret-color: rgb(0\, 0\, 0)\; color: rgb(0\, 0\, 0)\;">Four tickets to pre-event reception and address</li>\n</ul>\n\n<p data-end="2118" data-start="1893" style="caret-color: rgb(0\, 0\, 0)\; color: rgb(0\, 0\, 0)\;"><br />\n<span style="font-size:20px\;"><strong>Gold Sponsor &ndash\; $1\,000</strong></span></p>\n\n<ul>\n	<li data-end="2118" data-start="1893" style="caret-color: rgb(0\, 0\, 0)\; color: rgb(0\, 0\, 0)\;">Company logo displayed on event presentation</li>\n	<li data-end="2118" data-start="1893" style="caret-color: rgb(0\, 0\, 0)\; color: rgb(0\, 0\, 0)\;">Company logo on Chamber of Commerce State of the City website page</li>\n	<li data-end="2118" data-start="1893" style="caret-color: rgb(0\, 0\, 0)\; color: rgb(0\, 0\, 0)\;">Three tickets to pre-event Reception and Address</li>\n</ul>\n\n<p data-end="2118" data-start="1893" style="caret-color: rgb(0\, 0\, 0)\; color: rgb(0\, 0\, 0)\;"><br />\n<strong><span style="font-size:20px\;">Bronze Sponsor &ndash\; $500</span></strong></p>\n\n<ul>\n	<li data-end="2118" data-start="1893" style="caret-color: rgb(0\, 0\, 0)\; color: rgb(0\, 0\, 0)\;">Company logo on Chamber of Commerce State of the City website page</li>\n	<li data-end="2118" data-start="1893" style="caret-color: rgb(0\, 0\, 0)\; color: rgb(0\, 0\, 0)\;">Two tickets to pre-event Reception and Address</li>\n</ul>\n\n<p data-end="2118" data-start="1893" style="caret-color: rgb(0\, 0\, 0)\; color: rgb(0\, 0\, 0)\;">&nbsp\;</p>\n
LOCATION:The 2026 State of the City will be held at Chino Hills Community Center\, located at 14250 Peyton Drive\, Chino Hills\, CA 91709.
UID:e.1511.8230
SEQUENCE:3
DTSTAMP:20260424T004342Z
URL:https://business.chinovalleychamber.com/events/details/2026-chino-hills-state-of-the-city-8230
END:VEVENT

END:VCALENDAR
