BEGIN:VCALENDAR
VERSION:2.0
PRODID:-//ChamberMaster//Event Calendar 2.0//EN
METHOD:PUBLISH
X-PUBLISHED-TTL:P3D
REFRESH-INTERVAL:P3D
CALSCALE:GREGORIAN
BEGIN:VEVENT
DTSTART:20250612T003000Z
DTEND:20250612T020000Z
X-MICROSOFT-CDO-ALLDAYEVENT:FALSE
SUMMARY:2025 Chino State of the City
DESCRIPTION:Join us for a memorable evening at the Mayor's 2025 State of the City Address: "Chino is Ready for Take Off" on June 11\, 2025\, at the historic Planes of Fame Air Museum in Chino. Presented by the Chino Valley Chamber of Commerce\, this signature event will feature Mayor Eunice Ulloa highlighting the City's major accomplishments and offering a compelling look ahead at the exciting projects and opportunities shaping Chino's future.\n\nGuests will enjoy an inspiring program set against the backdrop of aviation history\, followed by a networking reception among community leaders\, local businesses\, and residents. Tickets are $45 per person\, and sponsorship packages including VIP early access are available for interested organizations.\n\n \n\nPlease RSVP by May 28\, 2025. For more information\, visit www.cityofchino.org/sotc or contact the Chino Valley Chamber of Commerce at (909) 627-6177.\n\n\n\n\nSponsorship Opportunities\n\nPremier: $5\,000\n\n\n	VIP Early Access & Networking\n	Company logo on chamber of Commerce State of the City invitation Logo displayed on event PowerPoint\n	Mayor's recognition during the State of the City Address\n	Logo on event program\n	Logo on State of the City website page \n	Includes 16 tickets\n\n Diamond: $2\,500\n\n\n	VIP Early Access & Networking\n	Company logo on chamber of Commerce State of the City invitation\n	Logo displayed on event PowerPoint\n	Mayor's recognition during the State of the City Address\n	Logo on event program\n	Logo on State of the City website page \n	Includes 8 tickets\n\n\n\nPlatinum: $1\,250\n\n\n	VIP Early Access & Networking\n	Recognition during the State of the City Address\n	Company logo on Chamber of Commerce State of the City website page\n	Logo on event program\n	Includes 6 tickets\n\n Gold: $750\n\n\n	Recognition during the State of the City Address\n	Company logo on Chamber of commerce State of the City website page\n	Includes 4 tickets\n\n\n\nSilver: $300\n\n\n	Company logo on Chamber of Commerce State of the City website page\n	Includes 2 tickets\n\n Bronze: $150\n\n\n	Company name on Chamber of Commerce State of the City website page \n	1 ticket
X-ALT-DESC;FMTTYPE=text/html:<div style="font-size: 12pt\; font-family: Aptos\, Aptos_EmbeddedFont\, Aptos_MSFontService\, Calibri\, Helvetica\, sans-serif\; color: rgb(0\, 0\, 0)\;"><i>Join us for a memorable evening at the Mayor&#39\;s 2025 State of the City Address: &quot\;Chino is Ready for Take Off&quot\; on June 11\, 2025\, at the historic Planes of Fame Air Museum in Chino. Presented by the Chino Valley Chamber of Commerce\, this signature event will feature Mayor Eunice Ulloa highlighting the City&#39\;s major accomplishments and offering a compelling look ahead at the exciting projects and opportunities shaping Chino&#39\;s future.</i></div>\n\n<div style="font-size: 12pt\; font-family: Aptos\, Aptos_EmbeddedFont\, Aptos_MSFontService\, Calibri\, Helvetica\, sans-serif\; color: rgb(0\, 0\, 0)\;"><i>Guests will enjoy an inspiring program set against the backdrop of aviation history\, followed by a networking reception among community leaders\, local businesses\, and residents. Tickets are $45 per person\, and sponsorship packages&mdash\;including VIP early access&mdash\;are available for interested organizations.</i></div>\n\n<div style="font-size: 12pt\; font-family: Aptos\, Aptos_EmbeddedFont\, Aptos_MSFontService\, Calibri\, Helvetica\, sans-serif\; color: rgb(0\, 0\, 0)\;">&nbsp\;</div>\n\n<div style="font-size: 12pt\; font-family: Aptos\, Aptos_EmbeddedFont\, Aptos_MSFontService\, Calibri\, Helvetica\, sans-serif\; color: rgb(0\, 0\, 0)\;"><i>Please RSVP by May 28\, 2025. For more information\, visit&nbsp\;<a class="ms-outlook-linkify" href="http://www.cityofchino.org/sotc" style="color: rgb(0\, 120\, 215)\;">www.cityofchino.org/sotc</a>&nbsp\;or contact the Chino Valley Chamber of Commerce at (909) 627-6177.</i></div>\n<br />\n<br />\n<span style="font-size:22px\;"><span style="font-family:arial\;"><strong><u>Sponsorship Opportunities</u></strong><br />\n<strong>Premier: $5\,000</strong></span></span>\n\n<ul dir="ltr">\n	<li font-variant-alternates:="" font-variant-east-asian:="" font-variant-ligatures:="" font-variant-numeric:="" font-variant-position:="" josefin="" line-height:="" margin-bottom:="" margin-left:="" margin-top:="" role="presentation" style="list-style-type: disc\; font-size: 8pt\; font-family: " vertical-align:="" white-space:=""><span style="font-family: arial\; font-size: 22px\;">VIP Early Access &amp\; Networking</span></li>\n	<li font-variant-alternates:="" font-variant-east-asian:="" font-variant-ligatures:="" font-variant-numeric:="" font-variant-position:="" josefin="" line-height:="" margin-bottom:="" margin-left:="" margin-top:="" role="presentation" style="list-style-type: disc\; font-size: 8pt\; font-family: " vertical-align:="" white-space:=""><span style="font-size:22px\;"><span style="font-family:arial\;">Company logo on chamber of Commerce State of the City invitation Logo displayed on event PowerPoint</span></span></li>\n	<li font-variant-alternates:="" font-variant-east-asian:="" font-variant-ligatures:="" font-variant-numeric:="" font-variant-position:="" josefin="" line-height:="" margin-bottom:="" margin-left:="" margin-top:="" role="presentation" style="list-style-type: disc\; font-size: 8pt\; font-family: " vertical-align:="" white-space:=""><span style="font-size:22px\;"><span style="font-family:arial\;">Mayor&rsquo\;s recognition during the State of the City Address</span></span></li>\n	<li font-variant-alternates:="" font-variant-east-asian:="" font-variant-ligatures:="" font-variant-numeric:="" font-variant-position:="" josefin="" line-height:="" margin-bottom:="" margin-left:="" margin-top:="" role="presentation" style="list-style-type: disc\; font-size: 8pt\; font-family: " vertical-align:="" white-space:=""><span style="font-size:22px\;"><span style="font-family:arial\;">Logo on event program</span></span></li>\n	<li font-variant-alternates:="" font-variant-east-asian:="" font-variant-ligatures:="" font-variant-numeric:="" font-variant-position:="" josefin="" line-height:="" margin-bottom:="" margin-left:="" margin-top:="" role="presentation" style="list-style-type: disc\; font-size: 8pt\; font-family: " vertical-align:="" white-space:=""><span style="font-size:22px\;"><span style="font-family:arial\;">Logo on State of the City website page&nbsp\;</span></span></li>\n	<li font-variant-alternates:="" font-variant-east-asian:="" font-variant-ligatures:="" font-variant-numeric:="" font-variant-position:="" josefin="" line-height:="" margin-bottom:="" margin-left:="" margin-top:="" role="presentation" style="list-style-type: disc\; font-size: 8pt\; font-family: " vertical-align:="" white-space:=""><span style="font-size:22px\;"><span style="font-family:arial\;">Includes 16 tickets</span></span></li>\n</ul>\n<span style="font-size:22px\;"><span style="font-family:arial\;"> <strong>Diamond: $2\,500</strong></span></span>\n\n<ul>\n	<li font-variant-alternates:="" font-variant-east-asian:="" font-variant-ligatures:="" font-variant-numeric:="" font-variant-position:="" josefin="" line-height:="" margin-bottom:="" margin-left:="" margin-top:="" role="presentation" style="list-style-type: disc\; font-size: 8pt\;" vertical-align:="" white-space:=""><span style="font-family: arial\; font-size: 22px\;">VIP Early Access &amp\; Networking</span></li>\n	<li><span style="font-size:22px\;"><span style="font-family:arial\;">Company logo on chamber of Commerce State of the City invitation</span></span></li>\n	<li><span style="font-size:22px\;"><span style="font-family:arial\;">Logo displayed on event PowerPoint</span></span></li>\n	<li><span style="font-size:22px\;"><span style="font-family:arial\;">Mayor&rsquo\;s recognition during the State of the City Address</span></span></li>\n	<li><span style="font-size:22px\;"><span style="font-family:arial\;">Logo on event program</span></span></li>\n	<li><span style="font-size:22px\;"><span style="font-family:arial\;">Logo on State of the City website page&nbsp\;</span></span></li>\n	<li><span style="font-size:22px\;"><span style="font-family:arial\;">Includes 8 tickets</span></span></li>\n</ul>\n<br />\n<span style="font-size:22px\;"><span style="font-family:arial\;"><strong>Platinum: $1\,250</strong></span></span>\n\n<ul dir="ltr">\n	<li font-variant-alternates:="" font-variant-east-asian:="" font-variant-ligatures:="" font-variant-numeric:="" font-variant-position:="" josefin="" line-height:="" margin-bottom:="" margin-left:="" margin-top:="" role="presentation" style="list-style-type: disc\; font-size: 8pt\;" vertical-align:="" white-space:=""><span style="font-family: arial\; font-size: 22px\;">VIP Early Access &amp\; Networking</span></li>\n	<li font-variant-alternates:="" font-variant-east-asian:="" font-variant-ligatures:="" font-variant-numeric:="" font-variant-position:="" josefin="" line-height:="" margin-bottom:="" margin-left:="" margin-top:="" role="presentation" style="list-style-type: disc\; font-size: 8pt\; font-family: " vertical-align:="" white-space:=""><span style="font-size:22px\;"><span style="font-family:arial\;">Recognition during the State of the City Address</span></span></li>\n	<li font-variant-alternates:="" font-variant-east-asian:="" font-variant-ligatures:="" font-variant-numeric:="" font-variant-position:="" josefin="" line-height:="" margin-bottom:="" margin-left:="" margin-top:="" role="presentation" style="list-style-type: disc\; font-size: 8pt\; font-family: " vertical-align:="" white-space:=""><span style="font-size:22px\;"><span style="font-family:arial\;">Company logo on Chamber of Commerce State of the City website page</span></span></li>\n	<li font-variant-alternates:="" font-variant-east-asian:="" font-variant-ligatures:="" font-variant-numeric:="" font-variant-position:="" josefin="" line-height:="" margin-bottom:="" margin-left:="" margin-top:="" role="presentation" style="list-style-type: disc\; font-size: 8pt\; font-family: " vertical-align:="" white-space:=""><span style="font-size:22px\;"><span style="font-family:arial\;">Logo on event program</span></span></li>\n	<li font-variant-alternates:="" font-variant-east-asian:="" font-variant-ligatures:="" font-variant-numeric:="" font-variant-position:="" josefin="" line-height:="" margin-bottom:="" margin-left:="" margin-top:="" role="presentation" style="list-style-type: disc\; font-size: 8pt\; font-family: " vertical-align:="" white-space:=""><span style="font-size:22px\;"><span style="font-family:arial\;">Includes 6 tickets</span></span></li>\n</ul>\n<span style="font-size:22px\;"><span style="font-family:arial\;"> <strong>Gold: $750</strong></span></span>\n\n<ul>\n	<li><span style="font-size:22px\;"><span style="font-family:arial\;">Recognition during the State of the City Address</span></span></li>\n	<li><span style="font-size:22px\;"><span style="font-family:arial\;">Company logo on Chamber of commerce State of the City website page</span></span></li>\n	<li><span style="font-size:22px\;"><span style="font-family:arial\;">Includes 4 tickets</span></span></li>\n</ul>\n<br />\n<span style="font-size:22px\;"><span style="font-family:arial\;"><strong>Silver: $300</strong></span></span>\n\n<ul>\n	<li><span style="font-size:22px\;"><span style="font-family:arial\;">Company logo on Chamber of Commerce State of the City website page</span></span></li>\n	<li><span style="font-size:22px\;"><span style="font-family:arial\;">Includes 2 tickets</span></span></li>\n</ul>\n<span style="font-size:22px\;"><span style="font-family:arial\;"> <strong>Bronze: $150</strong></span></span>\n\n<ul>\n	<li><span style="font-size:22px\;"><span style="font-family:arial\;">Company name on Chamber of Commerce State of the City website page </span></span></li>\n	<li><span style="font-size:22px\;"><span style="font-family:arial\;">1 ticket</span></span></li>\n</ul>\n
LOCATION:Planes of Fame Air Museum 14998 Cal Aero Dr\, Chino\, CA 91710.
UID:e.1511.6834
SEQUENCE:3
DTSTAMP:20260422T145856Z
URL:https://business.chinovalleychamber.com/events/details/2025-chino-state-of-the-city-6834
END:VEVENT

END:VCALENDAR
