BEGIN:VCALENDAR
VERSION:2.0
PRODID:-//ChamberMaster//Event Calendar 2.0//EN
METHOD:PUBLISH
X-PUBLISHED-TTL:P3D
REFRESH-INTERVAL:P3D
CALSCALE:GREGORIAN
BEGIN:VEVENT
DTSTART:20240227T150000Z
DTEND:20240227T163000Z
X-MICROSOFT-CDO-ALLDAYEVENT:FALSE
SUMMARY:2024 Mayor's Prayer Breakfast
DESCRIPTION:I am excited to hear of your interest in our 5th annual Chino Valley Mayor's Prayer Breakfast\, which is scheduled for Tuesday\, February 27\, 2024\, from 7:00-8:30 a.m. at the NFI Industries Western Headquarters Warehouse at15970 Mountain Ave. Chino\, CA 91710.  Doors open at 5:45 a.m.  We are expecting 1\,000 to attend.\n\nWe hope you will consider being a sponsor (see attached list of benefits) and join us as we focus on prayer for our community\, our families\, our schools\, and our nation.  The theme of this event is "Rise up and Pray."  I have attached a sponsor form in the hopes that you will want to be a sponsor and help support our communities thru this great event.  The printing deadline is February 5th.\n\n\n\nFormer notorious mobster Michael Franzese will be our keynote speaker at the Prayer Breakfast.  The Chino Valley Mayor's Prayer Breakfast Committee feels beyond blessed that Michael Franzese will be sharing his testimony with us.\n\nMr. Franzese has a powerful testimony of how he did the impossible   walk away from the mob.  Michael Franzese grew up as the son of the notorious Underboss of New York's violent and feared Colombo crime family. At his most affluent time\, Michael was generating an estimated $5 to $8 million per week from legal and illegal businesses in 1986.  Vanity Fair named him one of the biggest money earners the mob had seen since Al Capone. At the age of 35\, Fortune Magazine listed him as number 18 on its list of the "Fifty Most Wealthy and Powerful Mafia Bosses\," just five behind John Gotti. All that was to change when Michael met a beautiful dancer from California named Camille Garcia whose beauty and faith would turn his world upside down\, causing Michael to do the unthinkable   walk away from the mob. Nobody of his rank had ever just walked away   and lived. Until now. This former "Prince of the Mafia" is now a man on a mission determined to use the compelling experiences of his former life for the benefit of others seeking redemption and forgiveness.\n\nMayors Eunice Ulloa of Chino and Cynthia Moran of Chino Hills are excited to welcome you to this special time of prayer for our communities.\n\nFor additional event information and sponsorship opportunities please visit  www.chinovalleychamber.com/events or e-mail Sylvia Nash at cvmayorsbreakfast@gmail.com\n\n\n\nTitanium sponsorship ($10\,000 and up)\; Premium sponsorship ($5\,000)\; Platinum ($2500) Gold ($1200)\, Silver ($650) Table Host ($350)\, and individual ticket ($38).  The attached document lists the various benefits for each category.
X-ALT-DESC;FMTTYPE=text/html:<p class="x_MsoNormal" data-event-added="1" style="margin: 0in 0in 12pt\; font-size: 11pt\; font-family: Calibri\, sans-serif\; color: rgb(36\, 36\, 36)\;"><span style="border: 0px\; font-style: inherit\; font-variant: inherit\; font-weight: inherit\; font-stretch: inherit\; font-size: 13pt\; line-height: inherit\; font-family: &quot\;Bookman Old Style&quot\;\, serif\; font-optical-sizing: inherit\; font-kerning: inherit\; font-feature-settings: inherit\; font-variation-settings: inherit\; margin: 0px\; padding: 0px\; vertical-align: baseline\; color: inherit\;">I am excited to hear of your interest in our 5<sup>th</sup>&nbsp\;annual Chino Valley Mayor&rsquo\;s Prayer Breakfast\, which is scheduled for Tuesday\, February&nbsp\;</span><span style="border: 0px\; font-style: inherit\; font-variant: inherit\; font-weight: inherit\; font-stretch: inherit\; font-size: 12pt\; line-height: inherit\; font-family: &quot\;Bookman Old Style&quot\;\, serif\; font-optical-sizing: inherit\; font-kerning: inherit\; font-feature-settings: inherit\; font-variation-settings: inherit\; margin: 0px\; padding: 0px\; vertical-align: baseline\; color: inherit\;">27\, 2024\, from 7:00-8:30&nbsp\;a.m. at the<b data-event-added="1">&nbsp\;NFI Industries Western&nbsp\;<span class="HQEo7" data-markjs="true" role="link" style="border-width: 0px 0px 1px\; border-top-style: initial\; border-right-style: initial\; border-bottom-style: dashed\; border-left-style: initial\; border-top-color: initial\; border-right-color: initial\; border-bottom-color: var(--themePrimary)\; border-left-color: initial\; border-image: initial\; font: inherit\; margin: 0px\; padding: 1px 0px\; vertical-align: baseline\; color: var(--themePrimary)\; cursor: pointer\;" tabindex="0">Headquarters Warehouse&nbsp\;</span></b><span class="HQEo7" data-markjs="true" role="link" style="border-width: 0px 0px 1px\; border-top-style: initial\; border-right-style: initial\; border-bottom-style: dashed\; border-left-style: initial\; border-top-color: initial\; border-right-color: initial\; border-bottom-color: var(--themePrimary)\; border-left-color: initial\; border-image: initial\; font: inherit\; margin: 0px\; padding: 1px 0px\; vertical-align: baseline\; color: var(--themePrimary)\; cursor: pointer\;" tabindex="0">at</span></span><span style="color: rgb(36\, 36\, 36)\; font-family: &quot\;Bookman Old Style&quot\;\, serif\; font-size: 18.6667px\;">15970 Mountain Ave. Chino\, CA 91710</span><span style="border: 0px\; font-style: inherit\; font-variant: inherit\; font-weight: inherit\; font-stretch: inherit\; font-size: 12pt\; line-height: inherit\; font-family: &quot\;Bookman Old Style&quot\;\, serif\; font-optical-sizing: inherit\; font-kerning: inherit\; font-feature-settings: inherit\; font-variation-settings: inherit\; margin: 0px\; padding: 0px\; vertical-align: baseline\; color: inherit\;"><b>.</b>&nbsp\; Doors open at 5:45 a.m.&nbsp\; We are expecting 1\,000 to attend.</span></p>\n\n<p class="x_MsoNormal" style="margin: 0in 0in 12pt\; font-size: 11pt\; font-family: Calibri\, sans-serif\; color: rgb(36\, 36\, 36)\;"><span style="border: 0px\; font-style: inherit\; font-variant: inherit\; font-weight: inherit\; font-stretch: inherit\; font-size: 12pt\; line-height: inherit\; font-family: &quot\;Bookman Old Style&quot\;\, serif\; font-optical-sizing: inherit\; font-kerning: inherit\; font-feature-settings: inherit\; font-variation-settings: inherit\; margin: 0px\; padding: 0px\; vertical-align: baseline\; color: inherit\;">We hope you will consider being a sponsor (see attached list of benefits) and join us as we focus on prayer for our community\, our families\, our schools\, and our nation.&nbsp\;<b><span style="border: 0px\; font: inherit\; margin: 0px\; padding: 0px\; vertical-align: baseline\; color: red\;">&nbsp\;</span></b>The theme of this event is &ldquo\;<b>Rise up and Pray.</b>&rdquo\;&nbsp\; I have attached a sponsor form in the hopes that you will want to be a sponsor and help support our communities thru this great event.&nbsp\;&nbsp\;<b><span style="border: 0px\; font: inherit\; margin: 0px\; padding: 0px\; vertical-align: baseline\; color: red\;">The printing deadline is February 5<sup>th</sup>.</span></b></span><br />\n<br />\n<span style="border: 0px\; font-style: inherit\; font-variant: inherit\; font-weight: inherit\; font-stretch: inherit\; font-size: 12pt\; line-height: inherit\; font-family: &quot\;Bookman Old Style&quot\;\, serif\; font-optical-sizing: inherit\; font-kerning: inherit\; font-feature-settings: inherit\; font-variation-settings: inherit\; margin: 0px\; padding: 0px\; vertical-align: baseline\; color: inherit\;">Former notorious mobster Michael Franzese will be our keynote speaker at the Prayer Breakfast.&nbsp\; The Chino Valley Mayor&rsquo\;s Prayer Breakfast Committee feels beyond blessed that Michael Franzese will be sharing his testimony with us.</span></p>\n\n<p class="x_MsoNormal" style="margin: 0in 0in 12pt\; font-size: 11pt\; font-family: Calibri\, sans-serif\; color: rgb(36\, 36\, 36)\;"><span style="border: 0px\; font-style: inherit\; font-variant: inherit\; font-weight: inherit\; font-stretch: inherit\; font-size: 12pt\; line-height: inherit\; font-family: &quot\;Bookman Old Style&quot\;\, serif\; font-optical-sizing: inherit\; font-kerning: inherit\; font-feature-settings: inherit\; font-variation-settings: inherit\; margin: 0px\; padding: 0px\; vertical-align: baseline\; color: inherit\;">Mr. Franzese has a powerful testimony of how he did the impossible &ndash\; walk away from the mob.&nbsp\; Michael Franzese grew up as the son of the notorious Underboss of New York&rsquo\;s violent and feared Colombo crime family. At his most affluent time\, Michael was generating an estimated $5 to $8 million per week from legal and illegal businesses in 1986.&nbsp\; Vanity Fair named him one of the biggest money earners the mob had seen since Al Capone. At the age of 35\, Fortune Magazine listed him as number 18 on its list of the &ldquo\;Fifty Most Wealthy and Powerful Mafia Bosses\,&rdquo\; just five behind John Gotti. All that was to change when Michael met a beautiful dancer from California named Camille Garcia whose beauty and faith would turn his world upside down\, causing Michael to do the unthinkable &ndash\; walk away from the mob. Nobody of his rank had ever just walked away &ndash\; and lived. Until now. This former &ldquo\;Prince of the Mafia&rdquo\; is now a man on a mission determined to use the compelling experiences of his former life for the benefit of others seeking redemption and forgiveness.</span></p>\n\n<p class="x_MsoNormal" style="margin: 0in 0in 12pt\; font-size: 11pt\; font-family: Calibri\, sans-serif\; color: rgb(36\, 36\, 36)\;"><span style="border: 0px\; font-style: inherit\; font-variant: inherit\; font-weight: inherit\; font-stretch: inherit\; font-size: 12pt\; line-height: inherit\; font-family: &quot\;Bookman Old Style&quot\;\, serif\; font-optical-sizing: inherit\; font-kerning: inherit\; font-feature-settings: inherit\; font-variation-settings: inherit\; margin: 0px\; padding: 0px\; vertical-align: baseline\; color: inherit\;">Mayors Eunice Ulloa of Chino and Cynthia Moran of Chino Hills are excited to welcome you to this special time of prayer for our communities.</span></p>\n\n<p class="x_MsoNormal" style="margin: 0in 0in 12pt\; font-size: 11pt\; font-family: Calibri\, sans-serif\; color: rgb(36\, 36\, 36)\;"><b><span style="border: 0px\; font-style: inherit\; font-variant: inherit\; font-weight: inherit\; font-stretch: inherit\; font-size: 12pt\; line-height: inherit\; font-family: &quot\;Bookman Old Style&quot\;\, serif\; font-optical-sizing: inherit\; font-kerning: inherit\; font-feature-settings: inherit\; font-variation-settings: inherit\; margin: 0px\; padding: 0px\; vertical-align: baseline\; background-image: initial\; background-position: initial\; background-size: initial\; background-repeat: initial\; background-attachment: initial\; background-origin: initial\; background-clip: initial\; color: rgb(0\, 0\, 153) !important\;">For additional event information and sponsorship opportunities please visit&nbsp\;&nbsp\;</span></b><span style="border: 0px\; font-style: inherit\; font-variant: inherit\; font-weight: inherit\; font-stretch: inherit\; font-size: 12pt\; line-height: inherit\; font-family: &quot\;Bookman Old Style&quot\;\, serif\; font-optical-sizing: inherit\; font-kerning: inherit\; font-feature-settings: inherit\; font-variation-settings: inherit\; margin: 0px\; padding: 0px\; vertical-align: baseline\; background-image: initial\; background-position: initial\; background-size: initial\; background-repeat: initial\; background-attachment: initial\; background-origin: initial\; background-clip: initial\; color: black !important\;"><a data-auth="NotApplicable" data-linkindex="0" href="http://www.chinovalleychamber.com/events" rel="noopener noreferrer" style="border: 0px\; font: inherit\; margin: 0px\; padding: 0px\; vertical-align: baseline\; color: rgb(5\, 99\, 193)\;" target="_blank">www.chinovalleychamber.com/events</a></span><b><span style="border: 0px\; font-style: inherit\; font-variant: inherit\; font-weight: inherit\; font-stretch: inherit\; font-size: 12pt\; line-height: inherit\; font-family: &quot\;Bookman Old Style&quot\;\, serif\; font-optical-sizing: inherit\; font-kerning: inherit\; font-feature-settings: inherit\; font-variation-settings: inherit\; margin: 0px\; padding: 0px\; vertical-align: baseline\; background-image: initial\; background-position: initial\; background-size: initial\; background-repeat: initial\; background-attachment: initial\; background-origin: initial\; background-clip: initial\; color: rgb(0\, 0\, 153) !important\;">&nbsp\;or e-mail Sylvia Nash at&nbsp\;</span></b><span style="border: 0px\; font-style: inherit\; font-variant: inherit\; font-weight: inherit\; font-stretch: inherit\; font-size: 12pt\; line-height: inherit\; font-family: &quot\;Bookman Old Style&quot\;\, serif\; font-optical-sizing: inherit\; font-kerning: inherit\; font-feature-settings: inherit\; font-variation-settings: inherit\; margin: 0px\; padding: 0px\; vertical-align: baseline\; background-image: initial\; background-position: initial\; background-size: initial\; background-repeat: initial\; background-attachment: initial\; background-origin: initial\; background-clip: initial\; color: rgb(0\, 0\, 153) !important\;"><a data-linkindex="1" href="mailto:cvmayorsbreakfast@gmail.com" style="border: 0px\; font: inherit\; margin: 0px\; padding: 0px\; vertical-align: baseline\; color: rgb(5\, 99\, 193)\;">cvmayorsbreakfast@gmail.com</a></span><br />\n<br />\n<b style="color: rgb(36\, 36\, 36)\; font-family: Calibri\, sans-serif\; font-size: 14.6667px\;"><span style="border: 0px\; font-style: inherit\; font-variant: inherit\; font-weight: inherit\; font-stretch: inherit\; font-size: 12pt\; line-height: inherit\; font-family: &quot\;Bookman Old Style&quot\;\, serif\; font-optical-sizing: inherit\; font-kerning: inherit\; font-feature-settings: inherit\; font-variation-settings: inherit\; margin: 0px\; padding: 0px\; vertical-align: baseline\; background-image: initial\; background-position: initial\; background-size: initial\; background-repeat: initial\; background-attachment: initial\; background-origin: initial\; background-clip: initial\; color: rgb(0\, 0\, 153) !important\;">Titanium sponsorship ($10\,000 and up)\; Premium sponsorship ($5\,000)\; Platinum ($2500) Gold ($1200)\, Silver ($650) Table Host ($350)\, and individual ticket ($38).&nbsp\;</span></b><span style="border: 0px\; font-variant-numeric: inherit\; font-variant-east-asian: inherit\; font-variant-alternates: inherit\; font-variant-position: inherit\; font-stretch: inherit\; font-size: 12pt\; line-height: inherit\; font-family: &quot\;Bookman Old Style&quot\;\, serif\; font-optical-sizing: inherit\; font-kerning: inherit\; font-feature-settings: inherit\; font-variation-settings: inherit\; margin: 0px\; padding: 0px\; vertical-align: baseline\; color: rgb(36\, 36\, 36)\;">&nbsp\;<a href="https://drive.google.com/file/d/18DqujBkndxsY7XCAvi8W0AuaRcjWqkOK/view?usp=sharing"><b><span style="border: 0px\; font: inherit\; margin: 0px\; padding: 0px\; vertical-align: baseline\; color: rgb(47\, 85\, 151) !important\;">The attached document lists the various benefits for each category.</span></b></a></span></p>\n
LOCATION:NFI Western Regional Headquarters 15970 Mountain Ave. Chino\, CA 91710
UID:e.1511.5058
SEQUENCE:3
DTSTAMP:20260422T084820Z
URL:https://business.chinovalleychamber.com/events/details/2024-mayor-s-prayer-breakfast-5058
END:VEVENT

END:VCALENDAR
