BEGIN:VCALENDAR
VERSION:2.0
PRODID:-//ChamberMaster//Event Calendar 2.0//EN
METHOD:PUBLISH
X-PUBLISHED-TTL:P3D
REFRESH-INTERVAL:P3D
CALSCALE:GREGORIAN
BEGIN:VEVENT
DTSTART:20231206T193000Z
DTEND:20231206T210000Z
X-MICROSOFT-CDO-ALLDAYEVENT:FALSE
SUMMARY:2023 Holiday Luncheon
DESCRIPTION:Join the Chino Valley Chamber on Wednesday\, December 6\, 2023 for our Holiday Luncheon from 11:30AM to 1:00PM. Join us in celebration this holiday season with other businesses in the Chino Valley!\n\n \n\nSponsoring the Chino Valley Chamber of Commerce is not just a great way to support your local community\, but also an opportunity to gain exposure and build brand recognition among potential customers and fellow businesses. \n\nPlease reach out to lhurst@chinovalleychamber.com for sponsorship opportunities. \n\n\n\nLunch Sponsor: $2\,500\n\n\n	Speaking Opportunity \n	Up to 18 tickets\n	35 raffle tickets\n	Company name & logo on Chamber of Commerce Holiday Luncheon website page & PowerPoint presentation\n	Verbal company recognition at event\n\nPremier Sponsor: $2\,000\n\n\n	Up to 16 seats\n	32 raffle tickets\n	Company name & logo on Chamber of Commerce Holiday Luncheon website page & PowerPoint presentation\n	Verbal company recognition at event\n\n\nDiamond Sponsor: $1\,000\n\n\n	Up to 8 seats\n	16 raffle tickets\n	Company name & logo on Chamber of Commerce Holiday Luncheon website page & PowerPoint presentation\n	Verbal company recognition at event\n\nPlatinum Sponsor: $750\n\n\n	Up to 6 seats\n	12 raffle tickets\n	Company name & logo on Chamber of Commerce Holiday Luncheon website page & PowerPoint presentation\n\n\nGold Sponsor: $500\n\n\n	Up to 4 seats\n	8 raffle tickets\n	Company name & logo on Chamber of Commerce Holiday Luncheon website page & PowerPoint presentation\n\nSilver Sponsor: $250\n\n\n	Up to 2 seats\n	4 raffle tickets\n	Company name & logo on Chamber of Commerce Holiday Luncheon website page & PowerPoint presentation\n\n\nBronze Sponsor: $150\n\n\n	Seating for one\n	Company name & logo on Chamber of Commerce Holiday Luncheon website page & PowerPoint presentation\n	Verbal company recognition at event
X-ALT-DESC;FMTTYPE=text/html:<div><strong><span style="font-family:arial\;">Join the Chino Valley Chamber on Wednesday\, December 6\, 2023 for our Holiday Luncheon from 11:30AM to 1:00PM. Join us in celebration this holiday season with other businesses in the Chino Valley!</span></strong><br />\n&nbsp\;</div>\n\n<div>Sponsoring the Chino Valley Chamber of Commerce is not just a great way to support your local community\, but also an opportunity to gain exposure and build brand recognition among potential customers and fellow businesses.&nbsp\;<br />\nPlease reach out to&nbsp\;<a href="mailto:lhurst@chinovalleychamber.com?subject=Sponsor%20Inquiry-%20Holiday%20Luncheon">lhurst@chinovalleychamber.com</a>&nbsp\;for sponsorship opportunities.&nbsp\;<br />\n<br />\n<strong style="font-size: 14px\;">Lunch Sponsor: $2\,500</strong>\n\n<ul>\n	<li role="presentation" style="list-style-type: disc\; line-height: 1.2\; margin-top: 0pt\; margin-bottom: 0pt\;"><span style="font-family:arial\;"><span style="font-size:14px\;"><span style="font-variant-ligatures: normal\; font-variant-alternates: normal\; font-variant-numeric: normal\; font-variant-east-asian: normal\; font-variant-position: normal\; vertical-align: baseline\;"><font color="#000000"><span style="caret-color: rgb(0\, 0\, 0)\; white-space: pre-wrap\;">Speaking Opportunity</span></font> </span></span></span></li>\n	<li role="presentation" style="list-style-type: disc\; font-size: 8pt\; line-height: 1.2\; margin-top: 0pt\; margin-bottom: 0pt\;"><span style="font-family:arial\;"><span style="font-size:14px\;">Up to 18 tickets</span></span></li>\n	<li role="presentation" style="list-style-type: disc\; font-size: 8pt\; line-height: 1.2\; margin-top: 0pt\; margin-bottom: 0pt\;"><span style="font-family:arial\;"><span style="font-size:14px\;"><span style="caret-color: rgb(0\, 0\, 0)\; color: rgb(0\, 0\, 0)\;"><span style="font-variant-ligatures: normal\; font-variant-alternates: normal\; font-variant-numeric: normal\; font-variant-east-asian: normal\; font-variant-position: normal\; vertical-align: baseline\; white-space: pre-wrap\;"><span id="docs-internal-guid-dff85ca4-7fff-1041-cc9f-ffec9a15c7e2"><span style="font-variant-ligatures: normal\; font-variant-alternates: normal\; font-variant-numeric: normal\; font-variant-east-asian: normal\; font-variant-position: normal\; vertical-align: baseline\;">35 raffle tickets</span></span></span></span></span></span></li>\n	<li role="presentation" style="list-style-type: disc\; font-size: 8pt\; line-height: 1.2\; margin-top: 0pt\; margin-bottom: 0pt\;"><span style="font-family:arial\;"><span style="font-size:14px\;"><span style="caret-color: rgb(0\, 0\, 0)\; color: rgb(0\, 0\, 0)\;"><span style="font-variant-ligatures: normal\; font-variant-alternates: normal\; font-variant-numeric: normal\; font-variant-east-asian: normal\; font-variant-position: normal\; vertical-align: baseline\; white-space: pre-wrap\;"><span style="font-variant-ligatures: normal\; font-variant-alternates: normal\; font-variant-numeric: normal\; font-variant-east-asian: normal\; font-variant-position: normal\; vertical-align: baseline\;"><span id="docs-internal-guid-dff85ca4-7fff-1041-cc9f-ffec9a15c7e2"><span style="font-variant-ligatures: normal\; font-variant-alternates: normal\; font-variant-numeric: normal\; font-variant-east-asian: normal\; font-variant-position: normal\; vertical-align: baseline\;">Company name &amp\; logo on Chamber of Commerce Holiday Luncheon website page &amp\; PowerPoint presentation</span></span></span></span></span></span></span></li>\n	<li role="presentation" style="list-style-type: disc\; font-size: 8pt\; line-height: 1.2\; margin-top: 0pt\; margin-bottom: 0pt\;"><span style="font-family:arial\;"><span style="font-size:14px\;"><span style="caret-color: rgb(0\, 0\, 0)\; color: rgb(0\, 0\, 0)\;"><span style="font-variant-ligatures: normal\; font-variant-alternates: normal\; font-variant-numeric: normal\; font-variant-east-asian: normal\; font-variant-position: normal\; vertical-align: baseline\; white-space: pre-wrap\;"><span style="font-variant-ligatures: normal\; font-variant-alternates: normal\; font-variant-numeric: normal\; font-variant-east-asian: normal\; font-variant-position: normal\; vertical-align: baseline\;"><span style="font-variant-ligatures: normal\; font-variant-alternates: normal\; font-variant-numeric: normal\; font-variant-east-asian: normal\; font-variant-position: normal\; vertical-align: baseline\;"><span id="docs-internal-guid-dff85ca4-7fff-1041-cc9f-ffec9a15c7e2"><span style="font-variant-ligatures: normal\; font-variant-alternates: normal\; font-variant-numeric: normal\; font-variant-east-asian: normal\; font-variant-position: normal\; vertical-align: baseline\;">Verbal company recognition at event</span></span></span></span></span></span></span></span></li>\n</ul>\n<span style="font-size:14px\;"><strong>Premier Sponsor: $2\,000</strong></span></div>\n\n<ul>\n	<li role="presentation" style="list-style-type: disc\; font-size: 8pt\; font-family: \;line-height: 1.2\; margin-top: 0pt\; margin-bottom: 0pt\;"><span style="font-size:14px\;"><span style="caret-color: rgb(0\, 0\, 0)\; color: rgb(0\, 0\, 0)\;"><span style="font-variant-ligatures: normal\; font-variant-alternates: normal\; font-variant-numeric: normal\; font-variant-east-asian: normal\; font-variant-position: normal\; vertical-align: baseline\; white-space: pre-wrap\;">Up to 16 seats</span></span></span></li>\n	<li role="presentation" style="list-style-type: disc\; font-size: 8pt\; font-family: \;line-height: 1.2\; margin-top: 0pt\; margin-bottom: 0pt\;"><span style="font-size:14px\;"><span style="caret-color: rgb(0\, 0\, 0)\; color: rgb(0\, 0\, 0)\;"><span style="font-variant-ligatures: normal\; font-variant-alternates: normal\; font-variant-numeric: normal\; font-variant-east-asian: normal\; font-variant-position: normal\; vertical-align: baseline\; white-space: pre-wrap\;"><span id="docs-internal-guid-dff85ca4-7fff-1041-cc9f-ffec9a15c7e2" style="caret-color: rgb(0\, 0\, 0)\; color: rgb(0\, 0\, 0)\;"><span style="font-variant-ligatures: normal\; font-variant-alternates: normal\; font-variant-numeric: normal\; font-variant-east-asian: normal\; font-variant-position: normal\; vertical-align: baseline\; white-space: pre-wrap\;">32 raffle tickets</span></span></span></span></span></li>\n	<li role="presentation" style="list-style-type: disc\; font-size: 8pt\; font-family: \;line-height: 1.2\; margin-top: 0pt\; margin-bottom: 0pt\;"><span style="font-size:14px\;"><span style="caret-color: rgb(0\, 0\, 0)\; color: rgb(0\, 0\, 0)\;"><span style="font-variant-ligatures: normal\; font-variant-alternates: normal\; font-variant-numeric: normal\; font-variant-east-asian: normal\; font-variant-position: normal\; vertical-align: baseline\; white-space: pre-wrap\;"><span style="caret-color: rgb(0\, 0\, 0)\; color: rgb(0\, 0\, 0)\;"><span style="font-variant-ligatures: normal\; font-variant-alternates: normal\; font-variant-numeric: normal\; font-variant-east-asian: normal\; font-variant-position: normal\; vertical-align: baseline\; white-space: pre-wrap\;"><span id="docs-internal-guid-dff85ca4-7fff-1041-cc9f-ffec9a15c7e2" style="caret-color: rgb(0\, 0\, 0)\; color: rgb(0\, 0\, 0)\;"><span style="font-variant-ligatures: normal\; font-variant-alternates: normal\; font-variant-numeric: normal\; font-variant-east-asian: normal\; font-variant-position: normal\; vertical-align: baseline\; white-space: pre-wrap\;">Company name &amp\; logo on Chamber of Commerce Holiday Luncheon website page &amp\; PowerPoint presentation</span></span></span></span></span></span></span></li>\n	<li role="presentation" style="list-style-type: disc\; font-size: 8pt\; font-family: \;line-height: 1.2\; margin-top: 0pt\; margin-bottom: 0pt\;"><span style="font-size:14px\;"><span style="caret-color: rgb(0\, 0\, 0)\; color: rgb(0\, 0\, 0)\;"><span style="font-variant-ligatures: normal\; font-variant-alternates: normal\; font-variant-numeric: normal\; font-variant-east-asian: normal\; font-variant-position: normal\; vertical-align: baseline\; white-space: pre-wrap\;"><span style="caret-color: rgb(0\, 0\, 0)\; color: rgb(0\, 0\, 0)\;"><span style="font-variant-ligatures: normal\; font-variant-alternates: normal\; font-variant-numeric: normal\; font-variant-east-asian: normal\; font-variant-position: normal\; vertical-align: baseline\; white-space: pre-wrap\;"><span style="caret-color: rgb(0\, 0\, 0)\; color: rgb(0\, 0\, 0)\;"><span style="font-variant-ligatures: normal\; font-variant-alternates: normal\; font-variant-numeric: normal\; font-variant-east-asian: normal\; font-variant-position: normal\; vertical-align: baseline\; white-space: pre-wrap\;"><span id="docs-internal-guid-dff85ca4-7fff-1041-cc9f-ffec9a15c7e2" style="caret-color: rgb(0\, 0\, 0)\; color: rgb(0\, 0\, 0)\;"><span style="font-variant-ligatures: normal\; font-variant-alternates: normal\; font-variant-numeric: normal\; font-variant-east-asian: normal\; font-variant-position: normal\; vertical-align: baseline\; white-space: pre-wrap\;">Verbal company recognition at event</span></span></span></span></span></span></span></span></span></li>\n</ul>\n\n<div style="list-style-type: disc\; line-height: 1.2\; margin-top: 0pt\; margin-bottom: 0pt\;"><span style="font-size: 14px\;"><strong>Diamond&nbsp\;Sponsor: $1\,000</strong></span>\n\n<ul style="font-size: 8pt\;">\n	<li role="presentation" style="list-style-type: disc\; font-size: 8pt\; line-height: 1.2\; margin-top: 0pt\; margin-bottom: 0pt\;"><span style="font-size:14px\;"><span style="caret-color: rgb(0\, 0\, 0)\; color: rgb(0\, 0\, 0)\;"><span style="font-variant-ligatures: normal\; font-variant-alternates: normal\; font-variant-numeric: normal\; font-variant-east-asian: normal\; font-variant-position: normal\; vertical-align: baseline\; white-space: pre-wrap\;">Up to 8 seats</span></span></span></li>\n	<li role="presentation" style="list-style-type: disc\; font-size: 8pt\; line-height: 1.2\; margin-top: 0pt\; margin-bottom: 0pt\;"><span style="font-size:14px\;"><span style="caret-color: rgb(0\, 0\, 0)\; color: rgb(0\, 0\, 0)\;"><span style="font-variant-ligatures: normal\; font-variant-alternates: normal\; font-variant-numeric: normal\; font-variant-east-asian: normal\; font-variant-position: normal\; vertical-align: baseline\; white-space: pre-wrap\;"><span id="docs-internal-guid-dff85ca4-7fff-1041-cc9f-ffec9a15c7e2"><span style="font-variant-ligatures: normal\; font-variant-alternates: normal\; font-variant-numeric: normal\; font-variant-east-asian: normal\; font-variant-position: normal\; vertical-align: baseline\;">16 raffle tickets</span></span></span></span></span></li>\n	<li role="presentation" style="list-style-type: disc\; font-size: 8pt\; line-height: 1.2\; margin-top: 0pt\; margin-bottom: 0pt\;"><span style="font-size:14px\;"><span style="caret-color: rgb(0\, 0\, 0)\; color: rgb(0\, 0\, 0)\;"><span style="font-variant-ligatures: normal\; font-variant-alternates: normal\; font-variant-numeric: normal\; font-variant-east-asian: normal\; font-variant-position: normal\; vertical-align: baseline\; white-space: pre-wrap\;"><span style="font-variant-ligatures: normal\; font-variant-alternates: normal\; font-variant-numeric: normal\; font-variant-east-asian: normal\; font-variant-position: normal\; vertical-align: baseline\;"><span id="docs-internal-guid-dff85ca4-7fff-1041-cc9f-ffec9a15c7e2"><span style="font-variant-ligatures: normal\; font-variant-alternates: normal\; font-variant-numeric: normal\; font-variant-east-asian: normal\; font-variant-position: normal\; vertical-align: baseline\;">Company name &amp\; logo on Chamber of Commerce Holiday Luncheon website page &amp\; PowerPoint presentation</span></span></span></span></span></span></li>\n	<li role="presentation" style="list-style-type: disc\; font-size: 8pt\; line-height: 1.2\; margin-top: 0pt\; margin-bottom: 0pt\;"><span style="font-size:14px\;"><span style="caret-color: rgb(0\, 0\, 0)\; color: rgb(0\, 0\, 0)\;"><span style="font-variant-ligatures: normal\; font-variant-alternates: normal\; font-variant-numeric: normal\; font-variant-east-asian: normal\; font-variant-position: normal\; vertical-align: baseline\; white-space: pre-wrap\;"><span style="font-variant-ligatures: normal\; font-variant-alternates: normal\; font-variant-numeric: normal\; font-variant-east-asian: normal\; font-variant-position: normal\; vertical-align: baseline\;"><span style="font-variant-ligatures: normal\; font-variant-alternates: normal\; font-variant-numeric: normal\; font-variant-east-asian: normal\; font-variant-position: normal\; vertical-align: baseline\;"><span id="docs-internal-guid-dff85ca4-7fff-1041-cc9f-ffec9a15c7e2"><span style="font-variant-ligatures: normal\; font-variant-alternates: normal\; font-variant-numeric: normal\; font-variant-east-asian: normal\; font-variant-position: normal\; vertical-align: baseline\;">Verbal company recognition at event</span></span></span></span></span></span></span></li>\n</ul>\n<strong><span style="font-size: 14px\;">Platinum Sponsor: $750</span></strong>\n\n<ul style="font-size: 10.666667px\;">\n	<li role="presentation" style="list-style-type: disc\; font-size: 8pt\; line-height: 1.2\; margin-top: 0pt\; margin-bottom: 0pt\;"><span style="font-size:14px\;"><span style="caret-color: rgb(0\, 0\, 0)\; color: rgb(0\, 0\, 0)\;"><span style="font-variant-ligatures: normal\; font-variant-alternates: normal\; font-variant-numeric: normal\; font-variant-east-asian: normal\; font-variant-position: normal\; vertical-align: baseline\; white-space: pre-wrap\;">Up to 6 seats</span></span></span></li>\n	<li role="presentation" style="list-style-type: disc\; font-size: 8pt\; line-height: 1.2\; margin-top: 0pt\; margin-bottom: 0pt\;"><span style="font-size:14px\;"><span style="caret-color: rgb(0\, 0\, 0)\; color: rgb(0\, 0\, 0)\;"><span style="font-variant-ligatures: normal\; font-variant-alternates: normal\; font-variant-numeric: normal\; font-variant-east-asian: normal\; font-variant-position: normal\; vertical-align: baseline\; white-space: pre-wrap\;"><span id="docs-internal-guid-dff85ca4-7fff-1041-cc9f-ffec9a15c7e2"><span style="font-variant-ligatures: normal\; font-variant-alternates: normal\; font-variant-numeric: normal\; font-variant-east-asian: normal\; font-variant-position: normal\; vertical-align: baseline\;">12 raffle tickets</span></span></span></span></span></li>\n	<li role="presentation" style="list-style-type: disc\; font-size: 8pt\; line-height: 1.2\; margin-top: 0pt\; margin-bottom: 0pt\;"><span style="font-size:14px\;"><span style="caret-color: rgb(0\, 0\, 0)\; color: rgb(0\, 0\, 0)\;"><span style="font-variant-ligatures: normal\; font-variant-alternates: normal\; font-variant-numeric: normal\; font-variant-east-asian: normal\; font-variant-position: normal\; vertical-align: baseline\; white-space: pre-wrap\;"><span style="font-variant-ligatures: normal\; font-variant-alternates: normal\; font-variant-numeric: normal\; font-variant-east-asian: normal\; font-variant-position: normal\; vertical-align: baseline\;"><span id="docs-internal-guid-dff85ca4-7fff-1041-cc9f-ffec9a15c7e2"><span style="font-variant-ligatures: normal\; font-variant-alternates: normal\; font-variant-numeric: normal\; font-variant-east-asian: normal\; font-variant-position: normal\; vertical-align: baseline\;">Company name &amp\; logo on Chamber of Commerce Holiday Luncheon website page &amp\; PowerPoint presentation</span></span></span></span></span></span></li>\n</ul>\n\n<div style="list-style-type: disc\; font-size: 8pt\; line-height: 1.2\; margin-top: 0pt\; margin-bottom: 0pt\;"><span style="font-size: 14px\;"><strong>Gold Sponsor: $500</strong></span>\n\n<ul style="font-size: 10.666667px\;">\n	<li role="presentation" style="list-style-type: disc\; font-size: 8pt\; line-height: 1.2\; margin-top: 0pt\; margin-bottom: 0pt\;"><span style="font-size:14px\;"><span style="caret-color: rgb(0\, 0\, 0)\; color: rgb(0\, 0\, 0)\;"><span style="font-variant-ligatures: normal\; font-variant-alternates: normal\; font-variant-numeric: normal\; font-variant-east-asian: normal\; font-variant-position: normal\; vertical-align: baseline\; white-space: pre-wrap\;">Up to 4 seats</span></span></span></li>\n	<li role="presentation" style="list-style-type: disc\; font-size: 8pt\; line-height: 1.2\; margin-top: 0pt\; margin-bottom: 0pt\;"><span style="font-size:14px\;"><span style="caret-color: rgb(0\, 0\, 0)\; color: rgb(0\, 0\, 0)\;"><span style="font-variant-ligatures: normal\; font-variant-alternates: normal\; font-variant-numeric: normal\; font-variant-east-asian: normal\; font-variant-position: normal\; vertical-align: baseline\; white-space: pre-wrap\;"><span id="docs-internal-guid-dff85ca4-7fff-1041-cc9f-ffec9a15c7e2"><span style="font-variant-ligatures: normal\; font-variant-alternates: normal\; font-variant-numeric: normal\; font-variant-east-asian: normal\; font-variant-position: normal\; vertical-align: baseline\;">8 raffle tickets</span></span></span></span></span></li>\n	<li role="presentation" style="list-style-type: disc\; font-size: 8pt\; line-height: 1.2\; margin-top: 0pt\; margin-bottom: 0pt\;"><span style="font-size:14px\;"><span style="caret-color: rgb(0\, 0\, 0)\; color: rgb(0\, 0\, 0)\;"><span style="font-variant-ligatures: normal\; font-variant-alternates: normal\; font-variant-numeric: normal\; font-variant-east-asian: normal\; font-variant-position: normal\; vertical-align: baseline\; white-space: pre-wrap\;"><span style="font-variant-ligatures: normal\; font-variant-alternates: normal\; font-variant-numeric: normal\; font-variant-east-asian: normal\; font-variant-position: normal\; vertical-align: baseline\;"><span id="docs-internal-guid-dff85ca4-7fff-1041-cc9f-ffec9a15c7e2"><span style="font-variant-ligatures: normal\; font-variant-alternates: normal\; font-variant-numeric: normal\; font-variant-east-asian: normal\; font-variant-position: normal\; vertical-align: baseline\;">Company name &amp\; logo on Chamber of Commerce Holiday Luncheon website page &amp\; PowerPoint presentation</span></span></span></span></span></span></li>\n</ul>\n<span style="font-size: 14px\;"><strong>Silver Sponsor: $250</strong></span>\n\n<ul style="font-size: 10.666667px\;">\n	<li role="presentation" style="list-style-type: disc\; font-size: 8pt\; line-height: 1.2\; margin-top: 0pt\; margin-bottom: 0pt\;"><span style="font-size:14px\;"><span style="caret-color: rgb(0\, 0\, 0)\; color: rgb(0\, 0\, 0)\;"><span style="font-variant-ligatures: normal\; font-variant-alternates: normal\; font-variant-numeric: normal\; font-variant-east-asian: normal\; font-variant-position: normal\; vertical-align: baseline\; white-space: pre-wrap\;">Up to 2 seats</span></span></span></li>\n	<li role="presentation" style="list-style-type: disc\; font-size: 8pt\; line-height: 1.2\; margin-top: 0pt\; margin-bottom: 0pt\;"><span style="font-size:14px\;"><span style="caret-color: rgb(0\, 0\, 0)\; color: rgb(0\, 0\, 0)\;"><span style="font-variant-ligatures: normal\; font-variant-alternates: normal\; font-variant-numeric: normal\; font-variant-east-asian: normal\; font-variant-position: normal\; vertical-align: baseline\; white-space: pre-wrap\;"><span id="docs-internal-guid-dff85ca4-7fff-1041-cc9f-ffec9a15c7e2"><span style="font-variant-ligatures: normal\; font-variant-alternates: normal\; font-variant-numeric: normal\; font-variant-east-asian: normal\; font-variant-position: normal\; vertical-align: baseline\;">4 raffle tickets</span></span></span></span></span></li>\n	<li role="presentation" style="list-style-type: disc\; font-size: 8pt\; line-height: 1.2\; margin-top: 0pt\; margin-bottom: 0pt\;"><span style="font-size:14px\;"><span style="caret-color: rgb(0\, 0\, 0)\; color: rgb(0\, 0\, 0)\;"><span style="font-variant-ligatures: normal\; font-variant-alternates: normal\; font-variant-numeric: normal\; font-variant-east-asian: normal\; font-variant-position: normal\; vertical-align: baseline\; white-space: pre-wrap\;"><span style="font-variant-ligatures: normal\; font-variant-alternates: normal\; font-variant-numeric: normal\; font-variant-east-asian: normal\; font-variant-position: normal\; vertical-align: baseline\;"><span id="docs-internal-guid-dff85ca4-7fff-1041-cc9f-ffec9a15c7e2"><span style="font-variant-ligatures: normal\; font-variant-alternates: normal\; font-variant-numeric: normal\; font-variant-east-asian: normal\; font-variant-position: normal\; vertical-align: baseline\;">Company name &amp\; logo on Chamber of Commerce Holiday Luncheon website page &amp\; PowerPoint presentation</span></span></span></span></span></span></li>\n</ul>\n\n<div style="list-style-type: disc\; font-size: 8pt\; line-height: 1.2\; margin-top: 0pt\; margin-bottom: 0pt\;"><span style="font-size: 14px\;"><strong>Bronze Sponsor: $150</strong></span>\n\n<ul style="font-size: 10.666667px\;">\n	<li role="presentation" style="list-style-type: disc\; font-size: 8pt\; line-height: 1.2\; margin-top: 0pt\; margin-bottom: 0pt\;"><span style="font-size:14px\;"><span style="caret-color: rgb(0\, 0\, 0)\; color: rgb(0\, 0\, 0)\;"><span style="font-variant-ligatures: normal\; font-variant-alternates: normal\; font-variant-numeric: normal\; font-variant-east-asian: normal\; font-variant-position: normal\; vertical-align: baseline\; white-space: pre-wrap\;">Seating for one</span></span></span></li>\n	<li role="presentation" style="list-style-type: disc\; font-size: 8pt\; line-height: 1.2\; margin-top: 0pt\; margin-bottom: 0pt\;"><span style="font-size:14px\;"><span style="caret-color: rgb(0\, 0\, 0)\; color: rgb(0\, 0\, 0)\;"><span style="font-variant-ligatures: normal\; font-variant-alternates: normal\; font-variant-numeric: normal\; font-variant-east-asian: normal\; font-variant-position: normal\; vertical-align: baseline\; white-space: pre-wrap\;"><span style="font-variant-ligatures: normal\; font-variant-alternates: normal\; font-variant-numeric: normal\; font-variant-east-asian: normal\; font-variant-position: normal\; vertical-align: baseline\;"><span id="docs-internal-guid-dff85ca4-7fff-1041-cc9f-ffec9a15c7e2"><span style="font-variant-ligatures: normal\; font-variant-alternates: normal\; font-variant-numeric: normal\; font-variant-east-asian: normal\; font-variant-position: normal\; vertical-align: baseline\;">Company name &amp\; logo on Chamber of Commerce Holiday Luncheon website page &amp\; PowerPoint presentation</span></span></span></span></span></span></li>\n	<li role="presentation" style="list-style-type: disc\; font-size: 8pt\; line-height: 1.2\; margin-top: 0pt\; margin-bottom: 0pt\;"><span style="font-size:14px\;"><span style="caret-color: rgb(0\, 0\, 0)\; color: rgb(0\, 0\, 0)\;"><span style="font-variant-ligatures: normal\; font-variant-alternates: normal\; font-variant-numeric: normal\; font-variant-east-asian: normal\; font-variant-position: normal\; vertical-align: baseline\; white-space: pre-wrap\;"><span style="font-variant-ligatures: normal\; font-variant-alternates: normal\; font-variant-numeric: normal\; font-variant-east-asian: normal\; font-variant-position: normal\; vertical-align: baseline\;"><span style="font-variant-ligatures: normal\; font-variant-alternates: normal\; font-variant-numeric: normal\; font-variant-east-asian: normal\; font-variant-position: normal\; vertical-align: baseline\;"><span id="docs-internal-guid-dff85ca4-7fff-1041-cc9f-ffec9a15c7e2"><span style="font-variant-ligatures: normal\; font-variant-alternates: normal\; font-variant-numeric: normal\; font-variant-east-asian: normal\; font-variant-position: normal\; vertical-align: baseline\;">Verbal company recognition at event</span></span></span></span></span></span></span></li>\n</ul>\n</div>\n</div>\n</div>\n
LOCATION:McCoy Equestrian Center
UID:e.1511.4749
SEQUENCE:3
DTSTAMP:20260422T120240Z
URL:https://business.chinovalleychamber.com/events/details/2023-holiday-luncheon-4749
END:VEVENT

END:VCALENDAR
