BEGIN:VCALENDAR
VERSION:2.0
PRODID:-//ChamberMaster//Event Calendar 2.0//EN
METHOD:PUBLISH
X-PUBLISHED-TTL:P3D
REFRESH-INTERVAL:P3D
CALSCALE:GREGORIAN
BEGIN:VEVENT
DTSTART:20211027T210000Z
DTEND:20211028T000000Z
X-MICROSOFT-CDO-ALLDAYEVENT:FALSE
SUMMARY:2021 CVCC Job Fair
DESCRIPTION:The Chino Valley Chamber of Commerce is excited to host a Job Fair on October 27\, 2021\, from 2:00 - 5:00PM at Chaffey College Community Center (5890 College Park Ave.\, Chino\, CA 91710). Start planning for your future career!\n\n\n\nJob seekers\, click HERE to register for FREE! Please dress to impress and bring copies of your resume to hand out to potential employers.\n\n\n\nBusinesses\, please register HERE to reserve your spot.\n\n*Please note\, indoor booths are sold out. Patio booths are still available*\n\nChamber Member: $50.00\n\nNon- Chamber Member: $100.00\n\n\n\nSponsorship Opportunities:\n\nDiamond Sponsor: $2\,000\n\nPlatinum Sponsor: $1\,000\n\n	Company recognition at event\n	Company name & logo on website\n	Company logo on event advertising\n	Booth at the event\n\nGold Sponsor: $750\n\n\n	Company name & logo on website\n	Company logo on event advertising\n	Booth at the event\n\nSilver Sponsor: $500\n\n\n	Company name and logo on website\n	Booth at the event\n\nBronze Sponsor: $250\n\n\n	Company name and logo on website\n	Booth at the event
X-ALT-DESC;FMTTYPE=text/html:<span style="font-size:16px\;"><strong>The Chino Valley Chamber of Commerce is excited to host a Job Fair on October 27\, 2021\, from 2:00 - 5:00PM at Chaffey College Community Center (5890 College Park Ave.\, Chino\, CA 91710). Start planning for your future career!</strong></span><br />\n<br />\n<strong>Job seekers\, click <u><a href="https://chinovalleychamber.chambermaster.com/eventregistration/register/3755">H</a></u><a href="https://chinovalleychamber.chambermaster.com/eventregistration/register/3755"><u>ERE</u></a> to register for FREE!</strong>&nbsp\;Please dress to impress and bring copies of your resume to hand out to potential employers.<br />\n<br />\nBusinesses\, please register <a href="https://chinovalleychamber.chambermaster.com/eventregistration/register/3755"><u><strong>HERE</strong></u></a> to reserve your spot.<br />\n<strong><span style="color:#FF0000\;">*P</span></strong><span style="color:#FF0000\;"><strong>lease note\, indoor booths are sold out. Patio booths are still available*</strong></span><br />\n<strong><u>Chamber Member:</u> </strong>$50.00<br />\n<strong><u>Non- Chamber Member:</u></strong> $100.00<br />\n<br />\n<strong><u>Sponsorship Opportunities:</u></strong><br />\n<strong>Diamond Sponsor: $2\,000<br />\nPlatinum Sponsor: $1\,000</strong>\n<ul>\n	<li>Company recognition at event</li>\n	<li>Company name &amp\; logo on website</li>\n	<li>Company logo on event advertising</li>\n	<li>Booth at the event</li>\n</ul>\n<strong>Gold Sponsor: $750</strong>\n\n<ul>\n	<li>Company name &amp\; logo on website</li>\n	<li>Company logo on event advertising</li>\n	<li>Booth at the event</li>\n</ul>\n<strong>Silver Sponsor: $500</strong>\n\n<ul>\n	<li>Company name and logo on website</li>\n	<li>Booth at the event</li>\n</ul>\n<strong>Bronze Sponsor: $250</strong>\n\n<ul>\n	<li>Company name and logo on website</li>\n	<li>Booth at the event</li>\n</ul>\n
LOCATION:Chaffey College Community Center (5890 College Park Ave.\, Chino\, CA 91710)
UID:e.1511.3755
SEQUENCE:3
DTSTAMP:20260422T132129Z
URL:https://business.chinovalleychamber.com/events/details/2021-cvcc-job-fair-3755
END:VEVENT

END:VCALENDAR
