BEGIN:VCALENDAR
VERSION:2.0
PRODID:-//ChamberMaster//Event Calendar 2.0//EN
METHOD:PUBLISH
X-PUBLISHED-TTL:P3D
REFRESH-INTERVAL:P3D
CALSCALE:GREGORIAN
BEGIN:VEVENT
DTSTART:20140108T193000Z
DTEND:20140108T220000Z
X-MICROSOFT-CDO-ALLDAYEVENT:FALSE
SUMMARY:2014 Labor Law Update
DESCRIPTION:The West Inland Empire Employer Advisory Council in Partnership with the Employment Development Department Present 2014 Labor law Update\n\n\n\nTopic: The presentation will cover:\n\n	\n		New employment law legislation for 2014.\n	\n		Recent case law affecting employers.\n	\n		Employment law outlook and how employers need to prepare for 2014.\n	\n		And much more.\n\nSpeakers: Attorneys Deborah Petito and Leonard Brazil from Clark & Trevithick\, APLC have experience in litigation practice\, primarily in the areas of labor law and employment issues including wage and hour matters and terminations.
X-ALT-DESC;FMTTYPE=text/html:The West Inland Empire Employer Advisory Council in Partnership with the Employment Development Department Present 2014 Labor law Update<br />\n<br />\nTopic: The presentation will cover:\n<ul>\n	<li>\n		New employment law legislation for 2014.</li>\n	<li>\n		Recent case law affecting employers.</li>\n	<li>\n		Employment law outlook and how employers need to prepare for 2014.</li>\n	<li>\n		And much more.</li>\n</ul>\nSpeakers: Attorneys Deborah Petito and Leonard Brazil from Clark &amp\; Trevithick\, APLC have experience in litigation practice\, primarily in the areas of labor law and employment issues including wage and hour matters and terminations.
LOCATION:Radisson Hotel (formally Ontario Marriott) 2200 East Holt Blvd.\, Ontario\, CA 91761
UID:e.1511.488
SEQUENCE:3
DTSTAMP:20260421T180511Z
URL:https://business.chinovalleychamber.com/events/details/2014-labor-law-update-01-08-2014-488
END:VEVENT

END:VCALENDAR
