BEGIN:VCALENDAR
VERSION:2.0
PRODID:-//ChamberMaster//Event Calendar 2.0//EN
METHOD:PUBLISH
X-PUBLISHED-TTL:P3D
REFRESH-INTERVAL:P3D
CALSCALE:GREGORIAN
BEGIN:VEVENT
DTSTART:20130529T181500Z
DTEND:20130529T210000Z
X-MICROSOFT-CDO-ALLDAYEVENT:FALSE
SUMMARY:2013 Chino State of the City Address
DESCRIPTION:2013 Chino State of the City Address
X-ALT-DESC;FMTTYPE=text/html:<span style="font-size: 14px\;"><strong>2013 Chino&nbsp\;State of the City Address</strong></span>
LOCATION:Chaffey College Community Building 5890 College Park Ave.\, Chino
UID:e.1511.50
SEQUENCE:3
DTSTAMP:20260422T042726Z
URL:https://business.chinovalleychamber.com/events/details/2013-chino-state-of-the-city-address-05-29-2013-50
END:VEVENT

END:VCALENDAR
