BEGIN:VCALENDAR
VERSION:2.0
PRODID:-//ChamberMaster//Event Calendar 2.0//EN
METHOD:PUBLISH
X-PUBLISHED-TTL:P3D
REFRESH-INTERVAL:P3D
CALSCALE:GREGORIAN
BEGIN:VEVENT
DTSTART:20130523T003000Z
DTEND:20130523T023000Z
X-MICROSOFT-CDO-ALLDAYEVENT:FALSE
SUMMARY:2013 Chino Hills State of the City Address
DESCRIPTION:2013 Chino Hills\n\nState of the City Address
X-ALT-DESC;FMTTYPE=text/html:<span style="color: rgb(47\, 79\, 79)\;"><span style="font-size: 14px\;"><strong>2013 Chino Hills<br />\nState of the City Address</strong></span></span>
LOCATION:Chino Hills City Council Chamber 14000 City Center Dr.\, Chino Hills
UID:e.1511.49
SEQUENCE:3
DTSTAMP:20260422T042644Z
URL:https://business.chinovalleychamber.com/events/details/2013-chino-hills-state-of-the-city-address-05-22-2013-49
END:VEVENT

END:VCALENDAR
