BEGIN:VCALENDAR
VERSION:2.0
PRODID:-//ChamberMaster//Event Calendar 2.0//EN
METHOD:PUBLISH
X-PUBLISHED-TTL:P3D
REFRESH-INTERVAL:P3D
CALSCALE:GREGORIAN
BEGIN:VEVENT
DTSTART:20140110T180000Z
DTEND:20140112T050000Z
X-MICROSOFT-CDO-ALLDAYEVENT:FALSE
SUMMARY:2 Day Sale Event!!
DESCRIPTION:30% off Kenmore Elite \, 10% off Samsung\, LG & Bosch appliances. Plus Extra 5% off w/t Sears Card or 12 Months 0% interest
X-ALT-DESC;FMTTYPE=text/html:30% off Kenmore Elite \, 10% off Samsung\, LG &amp\; Bosch appliances. Plus Extra 5% off w/t Sears Card or 12 Months 0% interest
LOCATION:Sears Home Appliance Showroom- Chino
UID:e.1511.503
SEQUENCE:3
DTSTAMP:20260421T164421Z
URL:https://business.chinovalleychamber.com/events/details/2-day-sale-event-01-10-2014-503
END:VEVENT

END:VCALENDAR
