BEGIN:VCALENDAR
VERSION:2.0
PRODID:-//ChamberMaster//Event Calendar 2.0//EN
METHOD:PUBLISH
X-PUBLISHED-TTL:P3D
REFRESH-INTERVAL:P3D
CALSCALE:GREGORIAN
BEGIN:VEVENT
DTSTART:20130704T190000Z
DTEND:20130705T050000Z
X-MICROSOFT-CDO-ALLDAYEVENT:FALSE
SUMMARY:1st Annual Victory 4th of July Festival\, July 4 - 6
DESCRIPTION:4th of July Festival\n\nRides\, Live Music\, Food Booths\, Live Drama\, Car Show and Much More..
X-ALT-DESC;FMTTYPE=text/html:4th of July Festival<br />\nRides\,&nbsp\;Live Music\,&nbsp\;Food Booths\, Live Drama\, Car Show and Much More..
LOCATION:Victory Outreach Church 11436 Central Ave.\, Chino
UID:e.1511.362
SEQUENCE:3
DTSTAMP:20260422T011945Z
URL:https://business.chinovalleychamber.com/events/details/1st-annual-victory-4th-of-july-festival-july-4-6-07-04-2013-362
END:VEVENT

END:VCALENDAR
