BEGIN:VCALENDAR
VERSION:2.0
PRODID:-//ChamberMaster//Event Calendar 2.0//EN
METHOD:PUBLISH
X-PUBLISHED-TTL:P3D
REFRESH-INTERVAL:P3D
CALSCALE:GREGORIAN
BEGIN:VEVENT
DTSTART:20140602T150000Z
DTEND:20140602T210000Z
X-MICROSOFT-CDO-ALLDAYEVENT:FALSE
SUMMARY:14th Annual Inland Empire United Way - Caring Hearts Golf Tournament
DESCRIPTION:14th Annual Inland Empire United Way\n\nCaring Hearts Golf Tournament \n\nSierra Lakes Golf Club\n\n\n\nPresented by: NOV Ameron \n\nHole in One:\n\nMark Christopher Auto Center\n\n\n\nALL PROCEEDS TO BENEFIT PROGRAMS OF INLAND UNITED WAY\, IMPROVING THE LIVES AND FUTURES OF THOSE IN NEED BY STRATEGICALLY INVESTING IN EDUCATION\, HEALTH AND FINANCIAL STABILITY.\n\nSponsorships are now available: Diamond\, Platinum\, Gold and Silver
X-ALT-DESC;FMTTYPE=text/html:<div class="main-shadow">\n<div class="main-shadow2">\n<div class="rt-module-surround">\n<div class="rt-module-surround2">\n<div class="rt-module-surround3">\n<div class="component-content rt-joomla">\n<div class="itemView nosurround" id="k2Container">\n<div class="itemBody">\n<div class="itemFullText"><br />\n<span style="font-family:verdana\;"><strong><span style="color:#0000CD\;">14th Annual Inland Empire United Way</span><br />\n<span style="color:#B22222\;">Caring Hearts Golf Tournament&nbsp\;</span></strong></span><br />\n<span style="color:#0000CD\;"><strong>Sierra Lakes Golf Club</strong></span><br />\n<br />\n<span style="font-size:12px\;"><strong>Presented by: NOV Ameron&nbsp\;<br />\nHole in One:<br />\nMark Christopher Auto Center</strong></span><br />\n<br />\n<span style="font-size:11px\;"><span style="color:#B22222\;"><strong>ALL PROCEEDS TO BENEFIT PROGRAMS OF INLAND UNITED WAY\, IMPROVING THE LIVES AND FUTURES OF THOSE IN NEED BY STRATEGICALLY INVESTING IN EDUCATION\, HEALTH AND FINANCIAL STABILITY<span style="line-height: 12.800000190734863px\;">.</span></strong></span><br />\n<span style="color:#FF8C00\;"><span style="font-size:12px\;"><strong>Sponsorships are now available: Diamond\, Platinum\, Gold and Silver</strong></span></span></span><br />\n&nbsp\;</div>\n</div>\n</div>\n</div>\n</div>\n</div>\n</div>\n</div>\n</div>\n
LOCATION:Sierra Lakes Golf Club 16600 Clubhouse Drive\, Fontana
UID:e.1511.583
SEQUENCE:3
DTSTAMP:20260419T130027Z
URL:https://business.chinovalleychamber.com/events/details/14th-annual-inland-empire-united-way-caring-hearts-golf-tournament-06-02-2014-583
END:VEVENT

END:VCALENDAR
